BEGIN:VCALENDAR
VERSION:2.0
PRODID:-// - ECPv6.15.20//NONSGML v1.0//EN
CALSCALE:GREGORIAN
METHOD:PUBLISH
X-ORIGINAL-URL:https://eosc-austria.at
X-WR-CALDESC:Events for 
REFRESH-INTERVAL;VALUE=DURATION:PT1H
X-Robots-Tag:noindex
X-PUBLISHED-TTL:PT1H
BEGIN:VTIMEZONE
TZID:Europe/Paris
BEGIN:DAYLIGHT
TZOFFSETFROM:+0100
TZOFFSETTO:+0200
TZNAME:CEST
DTSTART:20220327T010000
END:DAYLIGHT
BEGIN:STANDARD
TZOFFSETFROM:+0200
TZOFFSETTO:+0100
TZNAME:CET
DTSTART:20221030T010000
END:STANDARD
BEGIN:DAYLIGHT
TZOFFSETFROM:+0100
TZOFFSETTO:+0200
TZNAME:CEST
DTSTART:20230326T010000
END:DAYLIGHT
BEGIN:STANDARD
TZOFFSETFROM:+0200
TZOFFSETTO:+0100
TZNAME:CET
DTSTART:20231029T010000
END:STANDARD
BEGIN:DAYLIGHT
TZOFFSETFROM:+0100
TZOFFSETTO:+0200
TZNAME:CEST
DTSTART:20240331T010000
END:DAYLIGHT
BEGIN:STANDARD
TZOFFSETFROM:+0200
TZOFFSETTO:+0100
TZNAME:CET
DTSTART:20241027T010000
END:STANDARD
END:VTIMEZONE
BEGIN:VEVENT
DTSTART;TZID=Europe/Paris:20231018T130000
DTEND;TZID=Europe/Paris:20231018T170000
DTSTAMP:20260425T213837
CREATED:20240424T130843Z
LAST-MODIFIED:20240424T130843Z
UID:16835-1697634000-1697648400@eosc-austria.at
SUMMARY:3rd General Assembly of the Austrian EOSC Mandated Organisation / EOSC Support Office Austria
DESCRIPTION:We want to celebrate one year of cooperation\, reflecting on the already achieved work and looking at the future visions for EOSC in Austria.
URL:https://eosc-austria.at/event/3rd-general-assembly-of-the-austrian-eosc-mandated-organisation-eosc-support-office-austria
LOCATION:Naturhistorisches Museum Wien\, Burgring 7\, Vienna\, 1010\, Austria
CATEGORIES:Hybrid Events
ATTACH;FMTTYPE=image/png:https://eosc-austria.at/wp-content/uploads/2023/09/3rd-GA-event-1.png
END:VEVENT
END:VCALENDAR