BEGIN:VCALENDAR
VERSION:2.0
PRODID:-// - ECPv6.15.20//NONSGML v1.0//EN
CALSCALE:GREGORIAN
METHOD:PUBLISH
X-ORIGINAL-URL:https://eosc-austria.at
X-WR-CALDESC:Events for 
REFRESH-INTERVAL;VALUE=DURATION:PT1H
X-Robots-Tag:noindex
X-PUBLISHED-TTL:PT1H
BEGIN:VTIMEZONE
TZID:Europe/Paris
BEGIN:DAYLIGHT
TZOFFSETFROM:+0100
TZOFFSETTO:+0200
TZNAME:CEST
DTSTART:20230326T010000
END:DAYLIGHT
BEGIN:STANDARD
TZOFFSETFROM:+0200
TZOFFSETTO:+0100
TZNAME:CET
DTSTART:20231029T010000
END:STANDARD
BEGIN:DAYLIGHT
TZOFFSETFROM:+0100
TZOFFSETTO:+0200
TZNAME:CEST
DTSTART:20240331T010000
END:DAYLIGHT
BEGIN:STANDARD
TZOFFSETFROM:+0200
TZOFFSETTO:+0100
TZNAME:CET
DTSTART:20241027T010000
END:STANDARD
BEGIN:DAYLIGHT
TZOFFSETFROM:+0100
TZOFFSETTO:+0200
TZNAME:CEST
DTSTART:20250330T010000
END:DAYLIGHT
BEGIN:STANDARD
TZOFFSETFROM:+0200
TZOFFSETTO:+0100
TZNAME:CET
DTSTART:20251026T010000
END:STANDARD
END:VTIMEZONE
BEGIN:VEVENT
DTSTART;VALUE=DATE:20240425
DTEND;VALUE=DATE:20240503
DTSTAMP:20260425T134636
CREATED:20240425T073143Z
LAST-MODIFIED:20240430T070257Z
UID:16962-1714003200-1714694399@eosc-austria.at
SUMMARY:EGU General Assembly 2024 in Vienna (hybrid)
DESCRIPTION:The EGU General Assembly 2024 brings together geoscientists from all over the world to one meeting covering all disciplines of the Earth\, planetary\, and space sciences. The EGU aims to provide a forum where scientists\, especially early career researchers\, can present their work and discuss their ideas with experts in all fields of geoscience.
URL:https://www.egu24.eu/
CATEGORIES:Hybrid Events
ATTACH;FMTTYPE=image/png:https://eosc-austria.at/wp-content/uploads/2023/12/CallEGU.png
END:VEVENT
END:VCALENDAR