BEGIN:VCALENDAR
VERSION:2.0
PRODID:-// - ECPv6.15.20//NONSGML v1.0//EN
CALSCALE:GREGORIAN
METHOD:PUBLISH
X-ORIGINAL-URL:https://eosc-austria.at
X-WR-CALDESC:Events for 
REFRESH-INTERVAL;VALUE=DURATION:PT1H
X-Robots-Tag:noindex
X-PUBLISHED-TTL:PT1H
BEGIN:VTIMEZONE
TZID:Europe/Paris
BEGIN:DAYLIGHT
TZOFFSETFROM:+0100
TZOFFSETTO:+0200
TZNAME:CEST
DTSTART:20240331T010000
END:DAYLIGHT
BEGIN:STANDARD
TZOFFSETFROM:+0200
TZOFFSETTO:+0100
TZNAME:CET
DTSTART:20241027T010000
END:STANDARD
BEGIN:DAYLIGHT
TZOFFSETFROM:+0100
TZOFFSETTO:+0200
TZNAME:CEST
DTSTART:20250330T010000
END:DAYLIGHT
BEGIN:STANDARD
TZOFFSETFROM:+0200
TZOFFSETTO:+0100
TZNAME:CET
DTSTART:20251026T010000
END:STANDARD
BEGIN:DAYLIGHT
TZOFFSETFROM:+0100
TZOFFSETTO:+0200
TZNAME:CEST
DTSTART:20260329T010000
END:DAYLIGHT
BEGIN:STANDARD
TZOFFSETFROM:+0200
TZOFFSETTO:+0100
TZNAME:CET
DTSTART:20261025T010000
END:STANDARD
END:VTIMEZONE
BEGIN:VEVENT
DTSTART;VALUE=DATE:20250210
DTEND;VALUE=DATE:20250215
DTSTAMP:20260425T020511
CREATED:20241014T134920Z
LAST-MODIFIED:20241014T134956Z
UID:19338-1739145600-1739577599@eosc-austria.at
SUMMARY:International Love Data Week
DESCRIPTION:The 2025 theme is “Whose Data Is It\, Anyway?” Take a minute to think about who owns data compared to who uses data. Different groups – like researchers\, the government\, companies\, or organizations – may collect data. They could own it\, share it\, publish it online\, or combine it. This year’s Love Data Week wants us to ask ‘Whose Data is it Anyway?’ This helps us remember to think about where the data came from before using it. Use this theme to have fun with your audience using data games or game shows. You could also use it to help people learn more about data literacy. Or you could talk about being responsible when dealing with important issues involving data. We’ve created a ready-to-use social media post. Simply download (or right-click) the square image and use it along with the text below to share this year’s event with your community on any social media platform. \nSave the date! Love Data Week is February 10-14\, 2025. Sign up for email updates at https://myumi.ch/ICPSRLoveDataWeekIntl. #LoveData25  \nEvents and activities\nThe 2025 events are being planned and will be posted closer to the start of Love Data Week. Want to see what events were held last year? View all 2024 Love Data Week events and activities that happened locally and virtually around the world. \nIdeas for Activities\n\nData citation\nFact-checking and accounting for misuse of data\nFinding data sources\nTransparency of AI\nData governance and management\nData sovereignty\, such as Indigenous data\nPros/cons of sharing data\nCopyright and other intellectual property associated with data\n\nLooking for a listing of ICPSR-specific Love Data Week events or the popular “Adopt-a-Dataset” activity? Visit the Love Data Week with ICPSR page. \nSubmit an event listing\nAre you hosting an event or activity for Love Data Week 2025?  Look for the link in early 2025 to submit your information to be included in the official Love Data Week events and activities list. Questions? Contact LoveDataWeek@umich.edu .
URL:https://eosc-austria.at/events/international-love-data-week/
CATEGORIES:Hybrid Events
ATTACH;FMTTYPE=image/png:https://eosc-austria.at/wp-content/uploads/2024/10/LDW2025-save-the-date-1920-x-400-px.png
END:VEVENT
END:VCALENDAR