BEGIN:VCALENDAR
VERSION:2.0
PRODID:-// - ECPv6.15.20//NONSGML v1.0//EN
CALSCALE:GREGORIAN
METHOD:PUBLISH
X-ORIGINAL-URL:https://eosc-austria.at
X-WR-CALDESC:Events for 
REFRESH-INTERVAL;VALUE=DURATION:PT1H
X-Robots-Tag:noindex
X-PUBLISHED-TTL:PT1H
BEGIN:VTIMEZONE
TZID:Europe/Paris
BEGIN:DAYLIGHT
TZOFFSETFROM:+0100
TZOFFSETTO:+0200
TZNAME:CEST
DTSTART:20240331T010000
END:DAYLIGHT
BEGIN:STANDARD
TZOFFSETFROM:+0200
TZOFFSETTO:+0100
TZNAME:CET
DTSTART:20241027T010000
END:STANDARD
BEGIN:DAYLIGHT
TZOFFSETFROM:+0100
TZOFFSETTO:+0200
TZNAME:CEST
DTSTART:20250330T010000
END:DAYLIGHT
BEGIN:STANDARD
TZOFFSETFROM:+0200
TZOFFSETTO:+0100
TZNAME:CET
DTSTART:20251026T010000
END:STANDARD
BEGIN:DAYLIGHT
TZOFFSETFROM:+0100
TZOFFSETTO:+0200
TZNAME:CEST
DTSTART:20260329T010000
END:DAYLIGHT
BEGIN:STANDARD
TZOFFSETFROM:+0200
TZOFFSETTO:+0100
TZNAME:CET
DTSTART:20261025T010000
END:STANDARD
END:VTIMEZONE
BEGIN:VEVENT
DTSTART;VALUE=DATE:20250916
DTEND;VALUE=DATE:20250918
DTSTAMP:20260424T175628
CREATED:20250731T120540Z
LAST-MODIFIED:20250731T120540Z
UID:20910-1757980800-1758153599@eosc-austria.at
SUMMARY:European Research & Innovation Days 2025
DESCRIPTION:Mark your calendars! The European Research & Innovation (R&I) Days 2025 will take place on 16–17 September 2025 at The Square in Brussels. The sixth edition of this flagship event of the European Commission will bring together policymakers\, researchers\, business leaders and the wider innovation community to discuss how research and innovation drives Europe’s competitiveness\, sustainability and industrial leadership\, underpinning the EU’s top priorities. \nRegister now \nThis year’s edition will come at a pivotal moment of discussions on the EU’s next long-term budget and key policy actions such as the Startup and Scaleup Strategy\, the European Life Sciences Strategy\, the AI in Science Strategy and the European Innovation and European Research Area Acts.
URL:https://eosc-austria.at/events/european-research-innovation-days-2025/
LOCATION:Brussels\, Brussels\, Belgium
CATEGORIES:Hybrid Events
ATTACH;FMTTYPE=image/png:https://eosc-austria.at/wp-content/uploads/2025/06/EC2.png
END:VEVENT
END:VCALENDAR