BEGIN:VCALENDAR
VERSION:2.0
PRODID:-// - ECPv6.15.20//NONSGML v1.0//EN
CALSCALE:GREGORIAN
METHOD:PUBLISH
X-ORIGINAL-URL:https://eosc-austria.at
X-WR-CALDESC:Events for 
REFRESH-INTERVAL;VALUE=DURATION:PT1H
X-Robots-Tag:noindex
X-PUBLISHED-TTL:PT1H
BEGIN:VTIMEZONE
TZID:Europe/Paris
BEGIN:DAYLIGHT
TZOFFSETFROM:+0100
TZOFFSETTO:+0200
TZNAME:CEST
DTSTART:20250330T010000
END:DAYLIGHT
BEGIN:STANDARD
TZOFFSETFROM:+0200
TZOFFSETTO:+0100
TZNAME:CET
DTSTART:20251026T010000
END:STANDARD
BEGIN:DAYLIGHT
TZOFFSETFROM:+0100
TZOFFSETTO:+0200
TZNAME:CEST
DTSTART:20260329T010000
END:DAYLIGHT
BEGIN:STANDARD
TZOFFSETFROM:+0200
TZOFFSETTO:+0100
TZNAME:CET
DTSTART:20261025T010000
END:STANDARD
BEGIN:DAYLIGHT
TZOFFSETFROM:+0100
TZOFFSETTO:+0200
TZNAME:CEST
DTSTART:20270328T010000
END:DAYLIGHT
BEGIN:STANDARD
TZOFFSETFROM:+0200
TZOFFSETTO:+0100
TZNAME:CET
DTSTART:20271031T010000
END:STANDARD
END:VTIMEZONE
BEGIN:VEVENT
DTSTART;VALUE=DATE:20260324
DTEND;VALUE=DATE:20260328
DTSTAMP:20260424T104205
CREATED:20250618T081950Z
LAST-MODIFIED:20260119T123006Z
UID:20708-1774310400-1774655999@eosc-austria.at
SUMMARY:FAIR Digital Objects Conference
DESCRIPTION:Conference Update November 2025\nProgram Chairs: Andreas Rauber (TU Wien)\, Sven Bingert (GWDG Göttingen) \n  \nAbstract Submissions & Reviews\nWe received 51 abstract submissions\, primarily concerning ongoing implementation projects. This is more than we had at previous FDO conferences. As with the Berlin conference\, there will be 18 slots for paper presentations\,10 slots for lightning talks and various posters. The review process will now begin\, with three reviewers per abstract\, and we intend to inform authors of the outcome by 15 December 2025. \n  \nRegistration\nRegistration is expected to open in the first two weeks of December. Along with the registration information\, we will provide details of fees and social events. \n  \nProgram Update\nThe programme for the 3rd FDO Conference on 24-27 March 2026 at TU Wien (TUW) is taking shape and we would like to provide an update on the state of preparations. So\, let’s go through the general layout of the conference. On 24 March 2026\, we will organise tutorials and a newcomer session. \n\n\n\n24 March\n25 March\n26 March\n27 March\n\n\nTutorials\nNewcomer session\nWelcome session:\nKeynotes and sessions on the dimensions of trust\, the state of their implementation and plans for action\, with audience interaction.\nFDO-related sessions with a keynote from Sanzio Bassini\,\nDirector of SuperComputing Applications and Innovation Department at CINECA\, paper presentations\, and panels (Motivation for FDOs\, Interoperability for FDOs).\nFDO-related sessions with\npaper presentations\, lightning talks\, panel on FDO and security\, summary and audience interaction.\n\n\n\n  \nFirst Day\nThe first day will start with a welcome session kicked off by J. Schneider (Rector of TUW) and C. Kirkpatrick (co-chair of the FDO Forum)\, followed by two keynotes from T. Hahn (President BDVA) and C. Stöver (CCO GEANT) on their views on the state of data exchange and reuse. \nThen\, in three sessions\, we will focus on the following: \n\nviews on specific trust dimensions\, such as data sovereignty\, transparency\, traceability\, accountability and persistence;\nthe state of architectures to overcome trust and rights barriers with the help of dataspace technologies and FDOs;\npossibilities for concrete actions.\n\nThe speakers on the first day are the Austrian minister E. Holzleitner (BMFWF)\, J. Schneider (rector of TU Wien)\, C. Kirkpatrick (SDSC\, FDOF)\, S. Hanslik (BMFWF)\, T. Hahn (BDVA)\, C. Stöver (GEANT)\, L. Biven (Jefferson Lab)\, D. Sangion (UniCredit)\, T. Motshegwa (AOSP)\, E. Pentz (Crossref\, DONA)\, M. Spiekermann (IDSA\, Huawei)\, D. Rohrmus (Factory X)\, S. Bingert (GWDG\, FDOF)\, P. Koen (IDSA\, Microsoft)\, E. Schultes (GOFAIR\, FDOF)\, M. Manda (Dirisa\, SA)\, Xihui Zheng\, Cheng Chi (China)\, TBA (Japan). \n  \nSecond and Third Day\nOn the second day\, we will begin with a keynote from the CINECA director. We will then focus on the current state of FDO specification applications and other FDO-related topics. Most contributions will take the form of presentations\, lightning talks and posters. We will organise three panels: \n\n“Why motivation for FDOs?” organised by L. Biven (Jefferson Lab);\n“FDO Interoperability” organised by R. Hanisch (former NIST);\n“Security and FDOs” organised by C. Blanchi (DONA) and P. Wittenburg (FDOF).\n\nAs with the FDO conferences in Leiden and Berlin\, there will be ample opportunity for interaction. \n  \nTraining and Newcomer Session\nWe will organise training courses and a special session on 24 March 2026 for newcomers. Here\, we will report on FDO specifications\, FDO-related services\, and FDO implementations (internet-based\, web-based and nano-publication-based). More details will be published soon. \n  \nOrganisers\nTU Wien \nFAIR Digital Objects Forum \n  \nPartners\nBDVA\, BMFWF\, CLARIN ERIC\, CODATA\, DIN\, DISSCO\, DOI Foundation\,\nDONA Foundation\, DKRZ\, EPOS ERIC\, FDO One\, GO FAIR\, GWDG\, IndiScale\,\nKIT\, Naturalis\, NIST\, ORKG\, RDA\, SDSC\, TIB\, ZBMED Köln \n  \nConference Chairs\nProf. Dr. Andreas Rauber (TUW)\, Dr. Sven Bingert (FDOF\, GWDG)\nContact: secretariat@fairdo.org
URL:https://eosc-austria.at/events/fair-digital-object-forum-conference/
LOCATION:TU Wien\, Kuppelsaal\, Karlsplatz 13\, Vienna\, 1040\, Austria
CATEGORIES:Hybrid Events
ATTACH;FMTTYPE=image/png:https://eosc-austria.at/wp-content/uploads/2025/06/Screenshot-2025-12-03-153553.png
END:VEVENT
END:VCALENDAR