BEGIN:VCALENDAR
VERSION:2.0
PRODID:-// - ECPv6.15.20//NONSGML v1.0//EN
CALSCALE:GREGORIAN
METHOD:PUBLISH
X-ORIGINAL-URL:https://eosc-austria.at
X-WR-CALDESC:Events for 
REFRESH-INTERVAL;VALUE=DURATION:PT1H
X-Robots-Tag:noindex
X-PUBLISHED-TTL:PT1H
BEGIN:VTIMEZONE
TZID:Europe/Paris
BEGIN:DAYLIGHT
TZOFFSETFROM:+0100
TZOFFSETTO:+0200
TZNAME:CEST
DTSTART:20210328T010000
END:DAYLIGHT
BEGIN:STANDARD
TZOFFSETFROM:+0200
TZOFFSETTO:+0100
TZNAME:CET
DTSTART:20211031T010000
END:STANDARD
BEGIN:DAYLIGHT
TZOFFSETFROM:+0100
TZOFFSETTO:+0200
TZNAME:CEST
DTSTART:20220327T010000
END:DAYLIGHT
BEGIN:STANDARD
TZOFFSETFROM:+0200
TZOFFSETTO:+0100
TZNAME:CET
DTSTART:20221030T010000
END:STANDARD
BEGIN:DAYLIGHT
TZOFFSETFROM:+0100
TZOFFSETTO:+0200
TZNAME:CEST
DTSTART:20230326T010000
END:DAYLIGHT
BEGIN:STANDARD
TZOFFSETFROM:+0200
TZOFFSETTO:+0100
TZNAME:CET
DTSTART:20231029T010000
END:STANDARD
END:VTIMEZONE
BEGIN:VEVENT
DTSTART;TZID=Europe/Paris:20220217T110000
DTEND;TZID=Europe/Paris:20220217T130000
DTSTAMP:20260425T062323
CREATED:20240424T091150Z
LAST-MODIFIED:20240424T091711Z
UID:16700-1645095600-1645102800@eosc-austria.at
SUMMARY:Monitoring EOSC readiness: FAIR data policies
DESCRIPTION:This workshop will share recent work undertaken by the EOSC Association to monitor additional activities and define key performance indicators relating to FAIR data policies; share the key aims of a survey on policy monitoring currently being carried out with Member States; and introduce solutions being developed by EOSC Future and FAIRsFAIR to support comparable policy monitoring moving forward. The workshop will allow ample time for questions and discussion. This event will be useful for a broad range of stakeholders who are interested in – or may need to contribute to – the ongoing monitoring of the policy landscape at different levels.
URL:https://eosc-austria.at/event/monitoring-eosc-readiness-fair-data-policies
LOCATION:Online
CATEGORIES:Online Events
ATTACH;FMTTYPE=image/png:https://eosc-austria.at/wp-content/uploads/2023/09/FAIRSFAIR.png
END:VEVENT
END:VCALENDAR