BEGIN:VCALENDAR
VERSION:2.0
PRODID:-// - ECPv6.15.20//NONSGML v1.0//EN
CALSCALE:GREGORIAN
METHOD:PUBLISH
X-ORIGINAL-URL:https://eosc-austria.at
X-WR-CALDESC:Events for 
REFRESH-INTERVAL;VALUE=DURATION:PT1H
X-Robots-Tag:noindex
X-PUBLISHED-TTL:PT1H
BEGIN:VTIMEZONE
TZID:Europe/Paris
BEGIN:DAYLIGHT
TZOFFSETFROM:+0100
TZOFFSETTO:+0200
TZNAME:CEST
DTSTART:20210328T010000
END:DAYLIGHT
BEGIN:STANDARD
TZOFFSETFROM:+0200
TZOFFSETTO:+0100
TZNAME:CET
DTSTART:20211031T010000
END:STANDARD
BEGIN:DAYLIGHT
TZOFFSETFROM:+0100
TZOFFSETTO:+0200
TZNAME:CEST
DTSTART:20220327T010000
END:DAYLIGHT
BEGIN:STANDARD
TZOFFSETFROM:+0200
TZOFFSETTO:+0100
TZNAME:CET
DTSTART:20221030T010000
END:STANDARD
BEGIN:DAYLIGHT
TZOFFSETFROM:+0100
TZOFFSETTO:+0200
TZNAME:CEST
DTSTART:20230326T010000
END:DAYLIGHT
BEGIN:STANDARD
TZOFFSETFROM:+0200
TZOFFSETTO:+0100
TZNAME:CET
DTSTART:20231029T010000
END:STANDARD
END:VTIMEZONE
BEGIN:VEVENT
DTSTART;TZID=Europe/Paris:20220713T103000
DTEND;TZID=Europe/Paris:20220713T113000
DTSTAMP:20260425T004024
CREATED:20240424T095917Z
LAST-MODIFIED:20240424T095917Z
UID:16724-1657708200-1657711800@eosc-austria.at
SUMMARY:OpenAIRE webinar: Usage counts
DESCRIPTION:The webinar will present the OpenAIRE service that contributes towards impact evaluation of usage activity in Open Access Content Providers. \nThe UsageCounts gathers raw usage activity and consolidated usage statistics reports respectively\, for OpenAIRE Research Graph products and from the network of OpenAIRE content providers (repositories\, e-journals\, CRIS\, national aggregators\, etc.). It builds and deploys usage statistics across the above distributed network and provides significant added value for different stakeholders.
URL:https://eosc-austria.at/event/openaire-webinar-usage-counts
LOCATION:Online
CATEGORIES:Online Events
ATTACH;FMTTYPE=image/png:https://eosc-austria.at/wp-content/uploads/2022/07/OpenAir22.png
END:VEVENT
END:VCALENDAR