BEGIN:VCALENDAR
VERSION:2.0
PRODID:-// - ECPv6.15.20//NONSGML v1.0//EN
CALSCALE:GREGORIAN
METHOD:PUBLISH
X-ORIGINAL-URL:https://eosc-austria.at
X-WR-CALDESC:Events for 
REFRESH-INTERVAL;VALUE=DURATION:PT1H
X-Robots-Tag:noindex
X-PUBLISHED-TTL:PT1H
BEGIN:VTIMEZONE
TZID:Europe/Paris
BEGIN:DAYLIGHT
TZOFFSETFROM:+0100
TZOFFSETTO:+0200
TZNAME:CEST
DTSTART:20220327T010000
END:DAYLIGHT
BEGIN:STANDARD
TZOFFSETFROM:+0200
TZOFFSETTO:+0100
TZNAME:CET
DTSTART:20221030T010000
END:STANDARD
BEGIN:DAYLIGHT
TZOFFSETFROM:+0100
TZOFFSETTO:+0200
TZNAME:CEST
DTSTART:20230326T010000
END:DAYLIGHT
BEGIN:STANDARD
TZOFFSETFROM:+0200
TZOFFSETTO:+0100
TZNAME:CET
DTSTART:20231029T010000
END:STANDARD
BEGIN:DAYLIGHT
TZOFFSETFROM:+0100
TZOFFSETTO:+0200
TZNAME:CEST
DTSTART:20240331T010000
END:DAYLIGHT
BEGIN:STANDARD
TZOFFSETFROM:+0200
TZOFFSETTO:+0100
TZNAME:CET
DTSTART:20241027T010000
END:STANDARD
END:VTIMEZONE
BEGIN:VEVENT
DTSTART;TZID=Europe/Paris:20231115T120000
DTEND;TZID=Europe/Paris:20231115T130000
DTSTAMP:20260424T054437
CREATED:20240424T133009Z
LAST-MODIFIED:20240424T133009Z
UID:16866-1700049600-1700053200@eosc-austria.at
SUMMARY:Second Swiss EOSC Coffee
DESCRIPTION:The European Open Science Cloud (EOSC) aims to develop a ‘Web of FAIR Data and services’ for science in Europe upon which a wide range of value-added services can be built. Would you like to know how Switzerland is involved\, and how it proposes to unlock the full potential of research data to accelerate discoveries and innovation?
URL:https://eosc-austria.at/event/second-swiss-eosc-coffee
LOCATION:Online
CATEGORIES:Online Events
ATTACH;FMTTYPE=image/png:https://eosc-austria.at/wp-content/uploads/2023/10/2nd-Swiss-coffee.png
END:VEVENT
BEGIN:VEVENT
DTSTART;TZID=Europe/Paris:20231116T130000
DTEND;TZID=Europe/Paris:20231116T143000
DTSTAMP:20260424T054437
CREATED:20240424T133227Z
LAST-MODIFIED:20240424T133227Z
UID:16869-1700139600-1700145000@eosc-austria.at
SUMMARY:Horizon Europe Open Science requirements in practice
DESCRIPTION:Have any doubts or questions about your obligations as a Horizon Europe (HE) grant holder in terms of Open Access to publications and Research Data Management? On Thursday\, November 16\, from 1 to 2.30 PM CET OpenAIRE will present the HE requirements\, followed by some time for the participants’ to the OpenAIRE experts. You will also get a preview of the main tools and services OpenAIRE provides to help project coordinators and research support staff on the requirements’ compliance.
URL:https://eosc-austria.at/event/horizon-europe-open-science-requirements-in-practice
LOCATION:Online
CATEGORIES:Online Events
ATTACH;FMTTYPE=image/jpeg:https://eosc-austria.at/wp-content/uploads/2023/11/OpenAIRE-HE-OS-requirements-webinar-Nov-23.jpg
END:VEVENT
BEGIN:VEVENT
DTSTART;TZID=Europe/Paris:20231121T120000
DTEND;TZID=Europe/Paris:20231121T180000
DTSTAMP:20260424T054437
CREATED:20240424T133503Z
LAST-MODIFIED:20240424T133503Z
UID:16872-1700568000-1700589600@eosc-austria.at
SUMMARY:7th EOSC Association's General Assembly
DESCRIPTION:Members and Observers of the EOSC Associations are invited to save the date for the 7th Association’s General Assembly. The meeting will be held online on Tuesday 21 November 2023 from 12:00 until 18:00.
URL:https://eosc-austria.at/event/7th-eosc-associations-general-assembly
LOCATION:Online
CATEGORIES:Online Events
ATTACH;FMTTYPE=image/png:https://eosc-austria.at/wp-content/uploads/2023/08/EOSC-GA-7.png
END:VEVENT
BEGIN:VEVENT
DTSTART;TZID=Europe/Paris:20231128T100000
DTEND;TZID=Europe/Paris:20231128T130000
DTSTAMP:20260424T054437
CREATED:20240424T134203Z
LAST-MODIFIED:20240424T134203Z
UID:16878-1701165600-1701176400@eosc-austria.at
SUMMARY:Webinar Data Management with LinkAhead
DESCRIPTION:The Austrian project “Shared RDM Services & Infrastructures”\, which is the successor of the “FAIR Data Austria” project\, is once again offering the popular webinar series “Research Data Management in Austria”. The webinar series is aimed at researchers and/or people working in research support and deals with a wide variety of topics in the field of research data management.
URL:https://eosc-austria.at/event/data-management-linkahead-webinar
LOCATION:Online
CATEGORIES:Online Events
ATTACH;FMTTYPE=image/png:https://eosc-austria.at/wp-content/uploads/2023/11/linkahead_webinar.png
END:VEVENT
BEGIN:VEVENT
DTSTART;TZID=Europe/Paris:20231129T090000
DTEND;TZID=Europe/Paris:20231129T100000
DTSTAMP:20260424T054437
CREATED:20240424T134613Z
LAST-MODIFIED:20240424T134613Z
UID:16881-1701248400-1701252000@eosc-austria.at
SUMMARY:National RDM Exchange Austria #1
DESCRIPTION:Looking for a national exchange on Research Data Management? The Shared RDM project organises a monthly national RDM exchange and gain new insights into how RDM is done in other organisations in Austria and learn how others have tackled challenging situations that are all too familiar to you.
URL:https://eosc-austria.at/event/monthly-rdm-exchange-to-discuss-current-developments-in-austria
LOCATION:Online
CATEGORIES:Online Events
ATTACH;FMTTYPE=image/png:https://eosc-austria.at/wp-content/uploads/2023/12/shared-RDM.png
END:VEVENT
END:VCALENDAR