BEGIN:VCALENDAR
VERSION:2.0
PRODID:-// - ECPv6.15.20//NONSGML v1.0//EN
CALSCALE:GREGORIAN
METHOD:PUBLISH
X-ORIGINAL-URL:https://eosc-austria.at
X-WR-CALDESC:Events for 
REFRESH-INTERVAL;VALUE=DURATION:PT1H
X-Robots-Tag:noindex
X-PUBLISHED-TTL:PT1H
BEGIN:VTIMEZONE
TZID:Europe/Paris
BEGIN:DAYLIGHT
TZOFFSETFROM:+0100
TZOFFSETTO:+0200
TZNAME:CEST
DTSTART:20230326T010000
END:DAYLIGHT
BEGIN:STANDARD
TZOFFSETFROM:+0200
TZOFFSETTO:+0100
TZNAME:CET
DTSTART:20231029T010000
END:STANDARD
BEGIN:DAYLIGHT
TZOFFSETFROM:+0100
TZOFFSETTO:+0200
TZNAME:CEST
DTSTART:20240331T010000
END:DAYLIGHT
BEGIN:STANDARD
TZOFFSETFROM:+0200
TZOFFSETTO:+0100
TZNAME:CET
DTSTART:20241027T010000
END:STANDARD
BEGIN:DAYLIGHT
TZOFFSETFROM:+0100
TZOFFSETTO:+0200
TZNAME:CEST
DTSTART:20250330T010000
END:DAYLIGHT
BEGIN:STANDARD
TZOFFSETFROM:+0200
TZOFFSETTO:+0100
TZNAME:CET
DTSTART:20251026T010000
END:STANDARD
END:VTIMEZONE
BEGIN:VEVENT
DTSTART;VALUE=DATE:20240315
DTEND;VALUE=DATE:20240316
DTSTAMP:20260424T012654
CREATED:20240424T140519Z
LAST-MODIFIED:20240424T140519Z
UID:16910-1710460800-1710547199@eosc-austria.at
SUMMARY:OSCARS Call for Funding Kick Off Meeting
DESCRIPTION:To support the research communities to take up open science and foster the involvement of scientists in EOSC\, OSCARS will launch two Open Calls (in total worth about 16 million Euro) to select third-parties for the development of new\, innovative Open Science projects or services\, that together will drive the uptake of FAIR-data-intensive research throughout the European Research Area (ERA). \nRegister: https://indico.in2p3.fr/event/32021/overview
URL:https://eosc-austria.at/events/oscars-call-for-funding-kick-off-meeting/
LOCATION:Online
CATEGORIES:Online Events
ATTACH;FMTTYPE=image/png:https://eosc-austria.at/wp-content/uploads/2024/02/OSCARS.png
END:VEVENT
BEGIN:VEVENT
DTSTART;TZID=Europe/Paris:20240326T160000
DTEND;TZID=Europe/Paris:20240326T170000
DTSTAMP:20260424T012654
CREATED:20240424T141253Z
LAST-MODIFIED:20240424T141253Z
UID:16920-1711468800-1711472400@eosc-austria.at
SUMMARY:EOSC Coffee Lecture: “Welche Möglichkeiten zur Beteiligung gibt es?”
DESCRIPTION:Eine Webinar-Reihe zur European Open Science Cloud (EOSC)\, zu Zielen\, Zukunftsperspektiven und Beteiligungsmöglichkeiten \nDie Europäische Open Science Cloud (EOSC) ist eine wegweisende Initiative\, die darauf abzielt\, einen integrativen und offenen Raum für den Austausch und die Nutzung von Forschungsdaten in Europa zu schaffen.
URL:https://eosc-austria.at/event/eosc-coffee-lecture-welche-moglichkeiten-zur-beteiligung-gibt-es
LOCATION:Online
CATEGORIES:Online Events
ATTACH;FMTTYPE=image/png:https://eosc-austria.at/wp-content/uploads/2024/01/EOSC_Coffe_lecture_3.png
END:VEVENT
END:VCALENDAR