BEGIN:VCALENDAR
VERSION:2.0
PRODID:-// - ECPv6.15.20//NONSGML v1.0//EN
CALSCALE:GREGORIAN
METHOD:PUBLISH
X-ORIGINAL-URL:https://eosc-austria.at
X-WR-CALDESC:Events for 
REFRESH-INTERVAL;VALUE=DURATION:PT1H
X-Robots-Tag:noindex
X-PUBLISHED-TTL:PT1H
BEGIN:VTIMEZONE
TZID:Europe/Paris
BEGIN:DAYLIGHT
TZOFFSETFROM:+0100
TZOFFSETTO:+0200
TZNAME:CEST
DTSTART:20230326T010000
END:DAYLIGHT
BEGIN:STANDARD
TZOFFSETFROM:+0200
TZOFFSETTO:+0100
TZNAME:CET
DTSTART:20231029T010000
END:STANDARD
BEGIN:DAYLIGHT
TZOFFSETFROM:+0100
TZOFFSETTO:+0200
TZNAME:CEST
DTSTART:20240331T010000
END:DAYLIGHT
BEGIN:STANDARD
TZOFFSETFROM:+0200
TZOFFSETTO:+0100
TZNAME:CET
DTSTART:20241027T010000
END:STANDARD
BEGIN:DAYLIGHT
TZOFFSETFROM:+0100
TZOFFSETTO:+0200
TZNAME:CEST
DTSTART:20250330T010000
END:DAYLIGHT
BEGIN:STANDARD
TZOFFSETFROM:+0200
TZOFFSETTO:+0100
TZNAME:CET
DTSTART:20251026T010000
END:STANDARD
END:VTIMEZONE
BEGIN:VEVENT
DTSTART;TZID=Europe/Paris:20240903T140000
DTEND;TZID=Europe/Paris:20240903T150000
DTSTAMP:20260423T183009
CREATED:20240807T093433Z
LAST-MODIFIED:20240807T093433Z
UID:18870-1725372000-1725375600@eosc-austria.at
SUMMARY:Towards a Transparent Transition to Open Access: The Current Data Landscape
DESCRIPTION:LIBER’s Open Access Working Group invites you to this webinar to learn about the findings from two recent studies published on the financial aspects of transitioning to open access and to have a discussion roundtable on implications in libraries’ open access strategies moving forward. The webinar will be facilitated by Dr. Birgit Schmidt\, Head of Knowledge Commons at the Göttingen State and University Library. \nSpeakers: Bianca Kramer\, Independent Research Analyst at Sesame Open Science. Her work focuses on open science\, open metadata and open infrastructure. Najko Jahn\, Data Analyst at the State and University Library Göttingen\, University of Göttingen. His work focuses on scholarly communication analytics. \nDISCLAIMER: The event has a capacity of 500 persons; The event will be recorded.
URL:https://eosc-austria.at/events/towards-a-transparent-transition-to-open-access-the-current-data-landscape/
LOCATION:Online
CATEGORIES:Online Events
ATTACH;FMTTYPE=image/png:https://eosc-austria.at/wp-content/uploads/2024/08/website-version-300x300-1.png
END:VEVENT
BEGIN:VEVENT
DTSTART;TZID=Europe/Paris:20240916T140000
DTEND;TZID=Europe/Paris:20240916T170000
DTSTAMP:20260423T183009
CREATED:20240911T095529Z
LAST-MODIFIED:20240911T095529Z
UID:18941-1726495200-1726506000@eosc-austria.at
SUMMARY:Abschlussveranstaltung des Kooperationsprojekts DiTAH
DESCRIPTION:Einladung zur online Abschlussveranstaltung des Kooperationsprojekts DiTAH “Digitale Transformation in den Österreichisches Geisteswissenschaften” \nMontag\, 16. September 2024 von 14:00 bis 17:00 online unter https://uni-graz.zoom.us/j/62306878063?pwd=hIpgbCpZQDfFHBFYlPqTPjuvd6Rqz8.1 \n\nBegrüßung durch Projektleiter (Univ.-Prof. Dr. M.A. Georg Vogeler)\nBegrüßung durch BMBWF und Vorstellung der Förderungsschiene (ALIN Mag.a Ursula Brustmann)\nDiTAH Projektvorstellung durch Projektleiter (Univ.-Prof. Dr. M.A. Georg Vogeler)\nDH Infrastrukturen in Österreich: CLARIAH-AT (Mag. Walter Scholger)\nVorstellung der neuen DiTAH Webseite (Projektmanagement Team)\nVorstellung der einzelnen DiTAH Teilprojekte (Projektpartner:innen)
URL:https://eosc-austria.at/events/abschlussveranstaltung-des-kooperationsprojekts-ditah/
LOCATION:Online
CATEGORIES:Online Events
ATTACH;FMTTYPE=image/png:https://eosc-austria.at/wp-content/uploads/2024/09/DiTAHAbschluss.png
END:VEVENT
BEGIN:VEVENT
DTSTART;TZID=Europe/Paris:20240924T080000
DTEND;TZID=Europe/Paris:20240924T170000
DTSTAMP:20260423T183009
CREATED:20240918T112944Z
LAST-MODIFIED:20240918T112944Z
UID:19097-1727164800-1727197200@eosc-austria.at
SUMMARY:MONITOR Community Call - For Institutions
DESCRIPTION:Are you interested in having a Dashboard in OpenAIRE-MONITOR and want to learn more about the service? Have you already got a Dashboard in OpenAIRE-MONITOR and interested in the recent updates of the service? Got questions about how you can fully benefit from the service? Join our dedicated community calls and learn more! \nAgenda: TBC \nRegistration: https://zoom.us/meeting/register/tJ0qcO6rrzIjGdRBa2CDx2isL-67ghbsuzFD#/registration \n* This meeting will be recorded and the recording will be shared via the OpenAIRE channels. By registering you accept the terms on which it will take place.
URL:https://eosc-austria.at/events/monitor-community-call-for-institutions/
LOCATION:Online
CATEGORIES:Online Events
ATTACH;FMTTYPE=image/webp:https://eosc-austria.at/wp-content/uploads/2024/09/Logo_Horizontal-27555593.webp
END:VEVENT
BEGIN:VEVENT
DTSTART;TZID=Europe/Paris:20240924T120000
DTEND;TZID=Europe/Paris:20240924T130000
DTSTAMP:20260423T183009
CREATED:20240918T113114Z
LAST-MODIFIED:20240918T113114Z
UID:19100-1727179200-1727182800@eosc-austria.at
SUMMARY:MONITOR Community Call - For Funders
DESCRIPTION:Are you interested in having a Dashboard in OpenAIRE-MONITOR and want to learn more about the service? Have you already got a Dashboard in OpenAIRE-MONITOR and interested in the recent updates of the service? Got questions about how you can fully benefit from the service? Join our dedicated community calls and learn more! \nAgenda: TBC \nRegistration Link: https://zoom.us/meeting/register/tJ0oc-uoqDMvEt2gR8xiA-aMld00aevojot2#/registration \n* This meeting will be recorded and the recording will be shared via the OpenAIRE channels. By registering you accept the terms on which it will take place.
URL:https://eosc-austria.at/events/monitor-community-call-for-funders/
LOCATION:Online
CATEGORIES:Online Events
ATTACH;FMTTYPE=image/webp:https://eosc-austria.at/wp-content/uploads/2024/09/Logo_Horizontal-27555593.webp
END:VEVENT
BEGIN:VEVENT
DTSTART;TZID=Europe/Paris:20240924T130000
DTEND;TZID=Europe/Paris:20240924T150000
DTSTAMP:20260423T183009
CREATED:20240827T083738Z
LAST-MODIFIED:20240827T083738Z
UID:18904-1727182800-1727190000@eosc-austria.at
SUMMARY:Konsortialfinanzierung von Diamond Open Access -Welche Angebote gibt  es und wie funktionieren sie
DESCRIPTION:Im Rahmen des BMBF-geförderten Projekts KOALA-AV möchten wir Ihnen\ndetaillierte Informationenzu verschiedenen\nDiamond-Open-Access-Konsortialangeboten vermitteln. KOALA-AV ist\neinKooperationsprojekt des Kommunikations-\, Informations-\, Medienzentrum\n(KIM) der UniversitätKonstanz und der TIB – Leibniz-Informationszentrum\nTechnik und Naturwissenschaften. Wir laden Sie herzlich zum digitalen\nWorkshop ein: \n*Referent*innen* \n* Juliane Finger von OLEcon (ZBW)\n* Sebastian Schaarschmidt von KOALA (SLUB)\n* Marco Tullney von KOALA (TIB) \n*Workshop-Agenda* \n* Einführende Inputs der Konsortialanbieter*innen\no Themengebiete: Welche fachlichen Themengebiete werden abgedeckt?\no Kosten: Wie hoch sind die Beiträge für die konsortiale\nFinanzierung für die jeweilige Einrichtung?\no Mehrwert: Was ist der Mehrwert für die Bibliotheken?\no Teilnahme: Wie kann eine Einrichtung teilnehmen? (Deadlines\,\nVoraussetzungen\, wiederkehrende Zyklen)\n* Expert*innenbefragung und Austausch\no Nach den Inputs können die Teilnehmenden ihre Fragen direkt an\ndie Vertreter*innen der Konsortialangebote stellen.\no Es wird Raum für den Austausch unter den Teilnehmenden geben. \n*Zielgruppe* \nDer Workshop richtet sich an Bibliotheksbeschäftigte\, die in ihrer\nEinrichtung für Beratungen und/oder Entscheidungen im Bereich Open\nAccess zuständig sind und an Open-Access-Konsortialmodellen interessiert\nsind. \n*Teilnahme & Registrierung *(siehe auch PDF-Flyer im Anhang)*\n* \nUm am Workshop teilzunehmen\, registrieren Sie sich bitte *bis zum 18.\nSeptember* HIER\n<https://uni-konstanz-de.zoom.us/meeting/register/tJwpd-yspzsiGtMGrgEJPEc67oZGUDpASTQo>:\nhttps://uni-konstanz-de.zoom.us/meeting/register/tJwpd-yspzsiGtMGrgEJPEc67oZGUDpASTQo \nDie maximale Teilnehmenden-Anzahl liegt bei 25 Personen. \nWir freuen uns auf den Austausch mit Ihnen! \nBei Fragen zur Veranstaltung wenden Sie sich an Karin Silvia Stork\n(karin.stork@uni-konstanz.de <http://uni-konstanz.de>).
URL:https://eosc-austria.at/events/konsortialfinanzierung-von-diamond-open-access-welche-angebote-gibt-es-und-wie-funktionieren-sie/
LOCATION:Online
CATEGORIES:Online Events
ATTACH;FMTTYPE=image/jpeg:https://eosc-austria.at/wp-content/uploads/2024/08/csm_KOALA_AV_Logo_5404295222-1.jpg
END:VEVENT
BEGIN:VEVENT
DTSTART;TZID=Europe/Paris:20240925T130000
DTEND;TZID=Europe/Paris:20240925T150000
DTSTAMP:20260423T183009
CREATED:20240918T120657Z
LAST-MODIFIED:20240918T120657Z
UID:19126-1727269200-1727276400@eosc-austria.at
SUMMARY:Advancing FAIR Policies and Practices in Tunisia (Evoluer les Politiques et Pratiques FAIR en Tunisie)
DESCRIPTION:The FAIR National Roadshow series is visiting Tunisia on the 25th of September 2024!\n  \nThe event will be virtually hosted by CNUDST – University National Center of Scientific and Technical Documentation. \nThe aim of this event is to promote the ongoing work being carried out by CNUDST to advance FAIR policies and practices in Tunisia. The event will also provide an introduction to the FAIR-IMPACT project to the research community in Tunisia. \n  \nREGISTER NOW \n  \nTarget audience:  RDM community at large\, data support staff\, researchers and policy makers at universities. \nLanguage: mainly in French but some content will be presented in English \nDate: 25 September 2024\, 13:00 – 14:45 CEST \nModerator: Chokri Ben Romdhane\, IT Senior Analyst\, CNUDST \n  \nAgenda \n\n\n\nTime (CEST)\nTitle\nPresenter\n\n\n13:00-13:10\nWelcome and introduction\nAmel Smaoui Chemli\, CNUDST DG\n\n\n13:10-13:25\nOverview of the FAIR-IMPACT project\nJoy Davidson\, FAIR-IMPACT and DCC\n\n\n13:25-13:40\nPresentation de l’action de support NLI\nSalome Landel\, FAIR-IMPACT and CNRS\n\n\n13:40-13:55\nFAIR Tunisian Action Plan\nChokri Ben Romdhane\, IT Senior Analyst\, CNUDST\n\n\n13:55-14:10\nAction Plan to improve PIST’s FAIR capabilities\nSalaheddine Ben Ali\, Senior Librarian\, CNUDST\n\n\n14:10-14:25\nConsortium DOI Tunisian\nBessem Aamira\, IT Senior Engineering\, CNUDST\n\n\n14:25-14:45\nOpen discussion and wrap up\nChokri Ben Romdhane\, IT Senior Analyst\, CNUDST\n\n\n\n  \nREGISTER NOW
URL:https://eosc-austria.at/events/advancing-fair-policies-and-practices-in-tunisia-evoluer-les-politiques-et-pratiques-fair-en-tunisie/
LOCATION:Online
CATEGORIES:Online Events
ATTACH;FMTTYPE=image/jpeg:https://eosc-austria.at/wp-content/uploads/2024/09/National-Roadshow-Tunisia.jpg
END:VEVENT
BEGIN:VEVENT
DTSTART;TZID=Europe/Paris:20240925T140000
DTEND;TZID=Europe/Paris:20240925T153000
DTSTAMP:20260423T183009
CREATED:20240918T113518Z
LAST-MODIFIED:20240918T113518Z
UID:19102-1727272800-1727278200@eosc-austria.at
SUMMARY:DataCite Annual Community Meeting
DESCRIPTION:How Discovery Systems Use DataCite Metadata: Harvester Roundtable\nDuring the session\, we will provide an overview of some of the cutting edge tools and services available for working with DataCite metadata\, including our APIs\, DataCite Commons\, the public data file\, and beyond. Alongside this\, we will hear from some of the key players who are leveraging DataCite’s 50+ million metadata records to develop innovative tools for locating research. This will be an opportunity to learn about how DataCite metadata is and can be used\, to enable discovery and reuse\, and the impact that rich metadata can have on the scholarly record. \nSpeakers: * Maria Gould (Director of Product\, DataCite) * Kelly Stathis (Technical Community Manager\, DataCite) * Alex Wade (VP – Product Management\, Data Products\, Digital Science) * Casey Meyer (Chief Technology Officer\, OurResearch) * Patricia Tortosa (Editorial Content Manager\, Clarivate Analytics) * Paolo Manghi (Chief Technology Officer\, OpenAIRE AMKE). \n*The slides and recording will be shared afterward through the DataCite Zenodo Community and YouTube Channel\, respectively. \nLearn more and register! 
URL:https://eosc-austria.at/events/datacite-annual-community-meeting/
LOCATION:Online
CATEGORIES:Online Events
ATTACH;FMTTYPE=image/webp:https://eosc-austria.at/wp-content/uploads/2024/09/DataCite_social_media_visual_community_meeting_2024_EMEA_4_4.webp
END:VEVENT
BEGIN:VEVENT
DTSTART;TZID=Europe/Paris:20240927T100000
DTEND;TZID=Europe/Paris:20240927T120000
DTSTAMP:20260423T183009
CREATED:20240918T080717Z
LAST-MODIFIED:20240918T080748Z
UID:18990-1727431200-1727438400@eosc-austria.at
SUMMARY:Shaping the Future of Cultural Heritage: “Connecting the Cultural Heritage Cloud with the common European data space for cultural heritage and the European Open Science Cloud”
DESCRIPTION:The Cultural Heritage Cloud – or European Collaborative Cloud for Cultural Heritage (ECCCH) – is a European Union initiative to create a digital infrastructure that will connect cultural heritage researchers and professionals across the EU. It will develop specific digital collaborative tools for the sector while removing barriers for smaller and remote institutions. The goal is to help cultural heritage institutions\, research organisations and other professional organisations of all kinds and sizes to work with their digital objects in a more visible\, interconnected\, harmonised\, and informed way\, to successfully cope with the challenges the digital transition poses to the sector and seize its opportunities. The Cultural Heritage Cloud will add a new digital dimension to cultural heritage preservation\, conservation\, restoration and enhancement by providing cutting-edge technologies\, for instance for the digitization of artefacts or for researching artworks. The implementation of this initiative has now begun with the EU-funded project ECHOES – European Cloud for Heritage OpEn Science\, which started on the 1 of June 2024. \nTwo other initiatives are currently running at European level: \n\nfunded by the Digital Europe programme\, the common European data space for cultural heritage is an EU flagship initiative to accelerate the digital transformation of the sector and foster creation\, access and reuse of heritage data.\nThe vision for the European Open Science Cloud (EOSC) is to put in place a system for researchers in Europe to store\, share\, process\, analyse\, and reuse data within and across disciplines and borders.\n\nIn this webinar\, we’ll learn more about the Cloud and two other European initiatives\, and how they are interconnected and complementary\, how these initiatives interact with the Cloud\, and what the added value of such connections is for the cultural heritage community.
URL:https://eosc-austria.at/events/shaping-the-future-of-cultural-heritage-connecting-the-cultural-heritage-cloud-with-the-common-european-data-space-for-cultural-heritage-and-the-european-open-science-cloud/
LOCATION:Online
CATEGORIES:Online Events
ATTACH;FMTTYPE=image/jpeg:https://eosc-austria.at/wp-content/uploads/2024/09/CulturalHeritage_Webinar27-9.jpg
END:VEVENT
BEGIN:VEVENT
DTSTART;TZID=Europe/Paris:20240927T110000
DTEND;TZID=Europe/Paris:20240927T120000
DTSTAMP:20260423T183009
CREATED:20240924T141611Z
LAST-MODIFIED:20240924T141806Z
UID:19217-1727434800-1727438400@eosc-austria.at
SUMMARY:The cOAlition S initiative and the road ahead
DESCRIPTION:This presentation highlights cOAlition S\, an initiative dedicated to making full and immediate Open Access to research publications a reality. The Executive Director of cOAlition S\, Johan Rooryck will briefly present the work of cOAlition S in the last five years and subsequently present the plans that cOAlition S is currently preparing for the next five years\, pending approval of the cOAlition S Leaders’ Group. These plans aim to facilitate the transition towards an open\, trustworthy\, and equitable scholarly communication system that meets the needs of both research and society. cOAlition S will seek to do this in partnership with the research community\, and through its funding requirements and research assessment processes. \nJoin the webinar on Friday\, September 27\, from 11:00 am to 12:00 pm UTC-3 (Santiago\, Chile). Register to watch the presentation and ask the speaker questions \nProgram:\n\nWelcome and Introduction\nWouter Schallier\, Chief of the Hernán Santa Cruz Library\, ECLAC\nThe cOAlition S initiative and the road ahead\nJohan Rooryck\, Executive Director of cOAlition S\nQ&A with Johan Rooryck\nModerator: Wouter Schallier\n\nAbout the speaker:   \nJohan Rooryck has been the Executive Director of cOAlition S since 2019\, and a co-PI with Pierre Mounier of the DIAMAS project. Since 2016\, Rooryck has served as co-editor-in-chief of the Diamond Open Access journal Glossa: A Journal of General Linguistics. This journal transitioned to Diamond Open Access when its Editorial Team and Board\, as well as its reader and author community\, decided to abandon the Elsevier-owned journal Lingua to found Diamond OA Glossa. Rooryck is a member of the Academia Europaea\, a doctor honoris causa of the Arctic University of Norway (UiT)\, and a visiting professor at Leiden University\, where he was chair of French linguistics from 1993 to 2020.
URL:https://eosc-austria.at/events/the-coalition-s-initiative-and-the-road-ahead/
LOCATION:Online
CATEGORIES:Online Events
ATTACH;FMTTYPE=image/png:https://eosc-austria.at/wp-content/uploads/2024/09/coalition-s.png
END:VEVENT
END:VCALENDAR