BEGIN:VCALENDAR
VERSION:2.0
PRODID:-// - ECPv6.15.20//NONSGML v1.0//EN
CALSCALE:GREGORIAN
METHOD:PUBLISH
X-ORIGINAL-URL:https://eosc-austria.at
X-WR-CALDESC:Events for 
REFRESH-INTERVAL;VALUE=DURATION:PT1H
X-Robots-Tag:noindex
X-PUBLISHED-TTL:PT1H
BEGIN:VTIMEZONE
TZID:Europe/Paris
BEGIN:DAYLIGHT
TZOFFSETFROM:+0100
TZOFFSETTO:+0200
TZNAME:CEST
DTSTART:20230326T010000
END:DAYLIGHT
BEGIN:STANDARD
TZOFFSETFROM:+0200
TZOFFSETTO:+0100
TZNAME:CET
DTSTART:20231029T010000
END:STANDARD
BEGIN:DAYLIGHT
TZOFFSETFROM:+0100
TZOFFSETTO:+0200
TZNAME:CEST
DTSTART:20240331T010000
END:DAYLIGHT
BEGIN:STANDARD
TZOFFSETFROM:+0200
TZOFFSETTO:+0100
TZNAME:CET
DTSTART:20241027T010000
END:STANDARD
BEGIN:DAYLIGHT
TZOFFSETFROM:+0100
TZOFFSETTO:+0200
TZNAME:CEST
DTSTART:20250330T010000
END:DAYLIGHT
BEGIN:STANDARD
TZOFFSETFROM:+0200
TZOFFSETTO:+0100
TZNAME:CET
DTSTART:20251026T010000
END:STANDARD
END:VTIMEZONE
BEGIN:VEVENT
DTSTART;TZID=Europe/Paris:20241002T100000
DTEND;TZID=Europe/Paris:20241002T113000
DTSTAMP:20260423T172536
CREATED:20240919T145334Z
LAST-MODIFIED:20240919T145334Z
UID:19174-1727863200-1727868600@eosc-austria.at
SUMMARY:CARE-Prinzipien
DESCRIPTION:Die FAIR-Prinzipien (Findable\, Accessible\, Interoperable\, Reusable) sind mittlerweile die anerkannten Leitlinien im Umgang mit Forschungsdaten und legen den Fokus auf technische und organisatorische Aspekte wie die Annotation von Metadaten\, die Veröffentlichung und Registrierung von DOIs sowie die Vergabe von Lizenzen für eine möglichst freie Nachnutzbarkeit. Die möglichst freie Verfügbarkeit und ein freier Datenaustausch sind die gesetzten Ziele. \nDie CARE-Prinzipien (Collective Benefit\, Authority to Control\, Responsibility\, Ethics) hingegen stehen für einen angemessenen Umgang mit Daten\, die indigene Gemeinschaften betreffen\, und sollen die FAIR-Prinzipien ergänzen. Im Gegensatz zu FAIR fokussiert sich CARE nicht auf die Erleichterung des Datenaustauschs\, sondern auf die Wahrung der Interessen indigener Gemeinschaften\, einer fairen Beteiligung an der Wertschöpfungskette und der Rückgabe von Kontrolle über Daten wie Bildern und Artefakten. \n\nCollective Benefit zielt darauf ab\, Daten indigener Gemeinschaften so zu verwenden\, dass diese daraus Nutzen bei öffentlichen Entscheidungsprozessen\, der Selbstbestimmung und der gerechten Realisierung von generierten Werten haben.\nAuthority to Control verfolgt das Ziel\, die Rechte indigener Gemeinschaften an ihren Daten anzuerkennen und zu wahren. Das erstreckt sich über die Erhebung und Nutzung von Daten im Rahmen der Selbstbestimmung bis hin zur aktiven Kontrolle des Zugangs zu Daten indigenen Ursprungs.\nResponsibility richtet sich an diejenigen\, die mit Daten indigenen Ursprungs arbeiten. Diese müssen belegen\, wie sie mit diesen Daten umgehen und welcher Nutzen für die indigene Gemeinschaft daraus entsteht. Die Nutzung indigener Daten verlangt dabei die Sicherstellung eines respekt- und würdevollen Umgangs mit den Daten. Gleichzeitig soll die Data Literacy indigener Gemeinschaften soweit ausgebaut werden\, dass diese Daten eigenständig und im Einklang mit ihren Werten erstellen kann.\nDer Ethics-Aspekt legt fest\, dass die Rechte indigener Gemeinschaften und deren Wohlergehen gewahrt werden. Dazu zählt die Vermeidung von Schaden durch die Datennutzung\, ein gerechter Umgang mit dem Ungleichgewicht von Macht und Ressourcen sowie die Berücksichtigung der zukünftigen Datennutzung.\n\nDer Vortrag streift Fragen der Forschungsethik und stellt die CARE-Prinzipien sowie deren praktische Umsetzung vor. Dabei wird die Relevanz von CARE für Forschungsdaten über Daten indigenen Ursprung hinaus skizziert. \nZeit und Ort: 02. Oktober 2024\, 10:00 – 11:30 Uhr\, online via Webex \nZielgruppe: \nForschende\, Personal aus der Forschungsunterstützung\, Data Stewards \nSprache: Deutsch \nVortragender: \nHolger Gauza\, Uni Tübingen \nRegistrierung: \nUm an dem Webinar teilzunehmen\, registrieren Sie sich hier. \nMaterialien: \nDie Materialien zu diesem Webinar werden nachher hier zur Verfügung gestellt.
URL:https://eosc-austria.at/events/care-prinzipien/
LOCATION:Online
CATEGORIES:Online Events
ATTACH;FMTTYPE=image/png:https://eosc-austria.at/wp-content/uploads/2023/07/sharedRDM-logo-orangeBG-e1689162072641.png
END:VEVENT
BEGIN:VEVENT
DTSTART;TZID=Europe/Paris:20241002T143000
DTEND;TZID=Europe/Paris:20241002T153000
DTSTAMP:20260423T172536
CREATED:20240918T113723Z
LAST-MODIFIED:20240918T113801Z
UID:19106-1727879400-1727883000@eosc-austria.at
SUMMARY:OpenAIRE Content Providers Community Call
DESCRIPTION:The OpenAIRE PROVIDE management team are hosting a webconference call with the OpenAIRE content providers community. \nThis is an opportunity to present and discuss recent developments from OpenAIRE\, upcoming releases from the provide related services and other related relevant topics\, in particular a time to discuss and give feedback about interoperability issues and the OpenAIRE infrastructure. \nTopic: TBC \nTime: 14h30 – 15h30 CET \nWhere: Zoom \nRegister here \nMore detailed information at https://www.openaire.eu/provide-community-calls
URL:https://eosc-austria.at/events/openaire-content-providers-community-call/
LOCATION:Online
CATEGORIES:Online Events
ATTACH;FMTTYPE=image/webp:https://eosc-austria.at/wp-content/uploads/2024/09/Logo_Horizontal-27555593.webp
END:VEVENT
BEGIN:VEVENT
DTSTART;TZID=Europe/Paris:20241004T130000
DTEND;TZID=Europe/Paris:20241004T150000
DTSTAMP:20260423T172536
CREATED:20240918T120416Z
LAST-MODIFIED:20240918T120509Z
UID:19122-1728046800-1728054000@eosc-austria.at
SUMMARY:FAIR Principles in national and institutional data management policies in Denmark
DESCRIPTION:The FAIR National Roadshow series is visiting Denmark on the 4th of October 2024!\nThe event will be virtually hosted by the Danish e-Infrastructure Consortium (DeiC)\, the University of Copenhagen and Copenhagen Business School\, in Denmark. \nThe aim of this event is to present the FAIR principles in Danish national and institutional data management policies\, as well as promote the outcomes and ongoing work of the FAIR-IMPACT project to the research community in Denmark. \nREGISTER NOW \n\n\nTarget audience:  RDM community at large\, data support staff\, researchers and policy makers at universities. \nLanguage: English \nDate: 4 October 2024\, 13:00 – 15:00 CEST \nLocal facilitator(s): ‘Danish e-Infrastructure Consortium (DeiC)\, University of Copenhagen and Copenhagen Business School\, in Denmark. \nAGENDA\nModerator: Sara Garavelli\, Strategic European Engagement & Coordination Development Manager at CSC – IT Center for Science and Board Member at EOSC Association \n\n\n\n\n\n\n\n\nTime (CEST)\nTitle\nPresenters\n\n\n13.00 – 13:10\nWelcome & context of the event in the framework of the FAIR-IMPACT project\nTBD\n\n\n13:10 – 13:15\nOutline of the agenda\, presentation of speakers\nSara Garavelli\, Development manager – IT Center for Science (CSC)\, and board member at EOSC Association\n\n\n13:15 – 13:25\nEOSC in Denmark\nGitte Julin Kudsk\, Director\, Danish e-Infrastructure Consortium (DeiC)\n\n\n13:25 – 13:40\nData management policies in the Danish national strategy for data management based on the FAIR principles\nJohn Renner Hansen\, Professor\, Niels Bohr Institute\, University of Copenhagen and Chairperson for the Danish national strategy for data management based on the FAIR principles\n\n\n13:40 – 14:00\nExamples of practical implementation of DM policy at The University of Copenhagen (success stories and difficulties)\nRichard Dennis\, Research Consultant / Data Manager and FAIR-IMPACT Champion. University of Copenhagen\, Novo Nordisk Foundation Center for Stem Cell Medicine – reNEW\n\n\n14:00 – 14:20\nExamples of practical implementation of DM policy at Copenhagen Business School  (success stories and difficulties\nMareike Buss\, Senior advisor\, research data management Copenhagen Business School\n\n\n14:20 – 14:30\nFAIRSharing and machine-readable data management policies\nLaurence Horton\, Research Data Specialist\, Digital Curation Center (DCC) and FAIR-IMPACT\n\n\n14:30 – 14:40\nTBD\nFAIRCore4EOSC\n\n\n14:40 – 14:55\nOpen Discussion\nSara Garavelli\, development manager – IT center for science at CSC\, and board member at EOSC Association\n\n\n14:55 – 15:00\nWrap-up and closure\nSara Pittonet\, Trust-IT & FAIR-IMPACT Outreach Manager
URL:https://eosc-austria.at/events/fair-principles-in-national-and-institutional-data-management-policies-in-denmark/
LOCATION:Online
CATEGORIES:Online Events
ATTACH;FMTTYPE=image/png:https://eosc-austria.at/wp-content/uploads/2024/09/National-Roadshow-Denmark.png
END:VEVENT
BEGIN:VEVENT
DTSTART;VALUE=DATE:20241007
DTEND;VALUE=DATE:20241012
DTSTAMP:20260423T172536
CREATED:20240807T094134Z
LAST-MODIFIED:20240807T094208Z
UID:18876-1728259200-1728691199@eosc-austria.at
SUMMARY:Galaxy Training Academy
DESCRIPTION:The event will provide a self-paced online learning experience for learners who would like to dive into the depths of Galaxy data analysis. The event is similar to the Smörgåsbord\, but the program will be more structured. On Monday learners can get to know Galaxy and its various functionalities. Between Tuesday and Thursday\, learners can choose from different Tracks that they are interested in. Friday will be dedicated to shorter topics. This track system can assist with onboarding or in-depth understanding of facets of one research area. The learners will still choose their program for the week\, but the track structure will provide guidance on what order will help them achieve their individual learning goals. We will support them via chat in their self-paced learning endeavors. \nInitial Program:\n\n\n\nDay\nProgram\n\n\nMonday\nGalaxy Introduction\n\n\nTuesday-Thurday\nDifferent tracks: \n\nProteomics\nAssembly\nTranscriptomics\nMicrobiome\nMachine learning\nBY-COVID\n\n\n\n\nFriday\nChoose from a variety of different topics
URL:https://eosc-austria.at/events/galaxy-training-academy/
LOCATION:Online
CATEGORIES:Online Events
ATTACH;FMTTYPE=image/png:https://eosc-austria.at/wp-content/uploads/2024/08/GTNLogo1000.png
END:VEVENT
BEGIN:VEVENT
DTSTART;TZID=Europe/Paris:20241007T130000
DTEND;TZID=Europe/Paris:20241007T143000
DTSTAMP:20260423T172536
CREATED:20240807T104432Z
LAST-MODIFIED:20240826T085456Z
UID:18672-1728306000-1728311400@eosc-austria.at
SUMMARY:Bringing EOSC Task Force Outcomes to the Austrian Research Data Management Community
DESCRIPTION:Event Description:  \nSince 2020\, the EOSC Association has been leading the charge mandated by the European Commission to create a federated\, interoperable structure for data\, especially data produced by publically funded research projects. \nTo start giving shape to the European Open Science Cloud\, 13 Task Forces were formed (2021-2023) on various aspects of research data management\, most of which enjoyed much engagement from experts from Austria. This participatory online event gives three of those participants a platform to showcase their outcomes and a chance for any and all working in the field of RDM to come into dialogue with them about how to translate the Task Forces’ outcomes and recommendations to the Austrian context. \n\nDate: 7 October 2024\nTime: 13:00 to 14:30\nWhere: Online\nHost: EOSC SOA\n\nProgram (90 mins): \n\nWelcome and introduction of event (5 mins)\nIntroduction of speakers (5 mins)\nInput Speaker 1: Chris Schubert\, TU Wien- FAIR Metris & Data Quality (10 mins)\nInput Speaker 2: Tereza Kalová\, University of Vienna- TF Data Stewardship\, Curricula & Career Paths (10 mins)\nInput speaker 3: Miguel Rey Mazón\, TU Graz- TF Financial Sustainability (10 mins)\nOpen Discussion between attendees and speakers (40 mins)\nWrap up (10 mins)
URL:https://eosc-austria.at/events/bringing-task-force-outcomes-to-the-eosc-soa-community/
LOCATION:Online
CATEGORIES:Online Events
ATTACH;FMTTYPE=image/png:https://eosc-austria.at/wp-content/uploads/2024/07/TF-Event-7-10-2024-long.png
END:VEVENT
BEGIN:VEVENT
DTSTART;TZID=Europe/Paris:20241008T100000
DTEND;TZID=Europe/Paris:20241008T120000
DTSTAMP:20260423T172536
CREATED:20240918T120233Z
LAST-MODIFIED:20240918T120844Z
UID:19119-1728381600-1728388800@eosc-austria.at
SUMMARY:Collaborative FAIR Data Practices & Tools
DESCRIPTION:The FAIR National Roadshow series is visiting Romania on the 8th of October 2024!\nThe event will be virtually hosted by the UEFISCDI – Executive Agency for Higher Education\, Research\, Development and Innovation Funding\, from Romania. \nREGISTER NOW \n\n\nTarget audience:  Research & Academic community in Romania \nLanguage: English \nDate: 8 October 2024\, 10:00 – 12:00 CEST \nLocal facilitator(s): UEFISCDI – Executive Agency for Higher Education\, Research\, Development and Innovation Funding\, from Romania. \nAGENDA\nModerator: Dragos-Catalin Barbu\, Institutul National de Cercetare-Dezvoltare in Informatica – ICI Bucuresti \nfdfd \n\n\n\n\n\n\n\nTime (CEST)\nTitle\nPresenters\n\n\n10.00 – 10:10\nWelcome & context of the event in the framework of the FAIR-IMPACT project\nTBD\n\n\n10:10 – 10:25\nOS-FAIR support through UEFISCDI projects; practical focus; BM OS community\n\nAlina Irimia\, UEFISCDI\, OSKH Coordinator\n\n\n10:25 – 10:40\nUniversity of medicine and pharmacy “Carol Davila”Bucharest –  best practice in adoption FAIR\nBrandusa Bitel\, UMF Carol Davila\n\n\n10:40 – 11:00\nImplementing FAIR data practices and tools at Babeș-Bolyai University in Cluj-Napoca\nVlad Popovici\, Babeș-Bolyai University Cluj-Napoca\, Lecturer\n\n\n11:00 – 11:20\nFAIRbyDesign methodology\nSonja Filiposka\, University of Skopje and Skills4EOSC project\n\n\n11:20 – 11:40\nFAIR Assessment tools: FOOPS! and methodologies for semantic artefact assessment\nDaniel Garijo\, UPM\n\n\n11:40 – 11:45\nFAIR-IMPACT FAIR Implementation Catalogue\n\nSara Pittonet\, Trust-IT & FAIR-IMPACT Outreach Manager\n\n\n11:45 – 11:55\nOpen Discussion\n\n\n\n11:55 – 12:00\nFAIR-IMPACT Support programme\nJoy Davidson\, Associate director\, Digital Curation Center (DCC)\n\n\n12:00\nWrap-up and closure\nSara Pittonet\, Trust-IT & FAIR-IMPACT Outreach Manager\n\n\n\n\n 
URL:https://eosc-austria.at/events/collaborative-fair-data-practices-tools/
LOCATION:Online
CATEGORIES:Online Events
ATTACH;FMTTYPE=image/png:https://eosc-austria.at/wp-content/uploads/2024/09/National-Roadshow-Romania.png
END:VEVENT
BEGIN:VEVENT
DTSTART;TZID=Europe/Paris:20241008T110000
DTEND;TZID=Europe/Paris:20241008T123000
DTSTAMP:20260423T172536
CREATED:20240925T094223Z
LAST-MODIFIED:20240925T094223Z
UID:19232-1728385200-1728390600@eosc-austria.at
SUMMARY:Movement for Indigenous Data Sovereignty: A Māori Decolonization Tool
DESCRIPTION:This talk will first outline which data can be described as “indigenous”\nor “Māori data”\, and to what extent sovereignty can be achieved for it.\nIn New Zealand\, a movement has formed that advocates for this\nsovereignty and thus promotes decolonial thinking. The Decolonize the\nLibrary Network in German-speaking Countries invites you after the talk\,\ninspired by this practice\, to discuss options for decolonial handling of\ndata in libraries. \nChris Cormack co-developed the open source library management system\nKoho and works to increase the participation and representation of Māori\nin the IT sector\, siehe https://www.linkedin.com/in/chriscormack/. \nParticipation without prior registration via\nhttps://hu-berlin.zoom-x.de/j/64225837439?pwd=8x9umn0cc9gNW0cdMTzcmPVpBz7DHz.1
URL:https://eosc-austria.at/events/movement-for-indigenous-data-sovereignty-a-maori-decolonization-tool/
LOCATION:Online
CATEGORIES:Online Events
ATTACH;FMTTYPE=image/png:https://eosc-austria.at/wp-content/uploads/2024/09/hu.png
END:VEVENT
BEGIN:VEVENT
DTSTART;TZID=Europe/Paris:20241010T093000
DTEND;TZID=Europe/Paris:20241010T131500
DTSTAMP:20260423T172536
CREATED:20241001T134324Z
LAST-MODIFIED:20241001T134410Z
UID:19274-1728552600-1728566100@eosc-austria.at
SUMMARY:EOSC EU Node technical launch event
DESCRIPTION:The European Commission’s Directorate-General for Research and Innovation (DG RTD) and Directorate-General for Communications Networks\, Content and Technology (DG CNECT) are organising a technical launch event of the EOSC EU Node online on 10 October 2024 at 9.30 – 13.15 CEST. \nSupporting the EU’s Policy of Open Science\, the European Open Science Cloud (EOSC) aims to give the EU a global lead in research data management and ensure that scientists in Europe enjoy the full benefits of data-driven science. To foster the development of EOSC\, the European Commission has deployed into production the EOSC EU Node in the form of managed services provided by third-party contractors. \nThe online launch event will focus on a technical demonstration of the EOSC EU Node\, provided by the contractors at first hand\, who are also responsible for the operations\, maintenance and support of the services. \nA panel on the buildup of the EOSC Federation will reflect on the importance of this milestone\, its impact on the future development of EOSC\, on the buildup of the EOSC Federation and on the broader adoption of Open Science principles. The moderated panel discussion will feature representatives from the EOSC Association and its Board of Directors\, EOSC Steering Board\, the European Commission\, the contractors providing the EOSC EU Node and the research community.
URL:https://eosc-austria.at/events/eosc-eu-node-technical-launch-event/
LOCATION:Online
CATEGORIES:Online Events
ATTACH;FMTTYPE=image/jpeg:https://eosc-austria.at/wp-content/uploads/2024/10/EOSC-EU-Node.jpg
END:VEVENT
BEGIN:VEVENT
DTSTART;TZID=Europe/Paris:20241016T110000
DTEND;TZID=Europe/Paris:20241016T120000
DTSTAMP:20260423T172536
CREATED:20240918T114034Z
LAST-MODIFIED:20240918T114034Z
UID:19108-1729076400-1729080000@eosc-austria.at
SUMMARY:OpenAIRE Graph Community Call
DESCRIPTION:Got questions or suggestions for the OpenAIRE Graph? Join the OpenAIRE Graph Community Call! A series where we dive into the makings and workings of one of the world’s largest Scholarly Knowledge Graphs and give you the floor for questions\, feedback\, & suggestions. Open to all! \nIn September’s edition\, we invite you to participate in an insightful session exploring the collaboration between ORCID and OpenAIRE. \nDiscover how this partnership enhances the transparency of the OpenAIRE Graph and benefits researchers like you. \nAbout our guest speaker: Paloma Marín-Arraiza holds a degree in Physics and a master’s in scientific information and communication\, both from the University of Granada (Spain). She obtained her PhD in Information Science at São Paulo State University (Brazil)\, with a thesis focused on data modelling for enhanced publications. Before joining ORCID\, she worked in research libraries in Germany and Austria\, dealing with non-textual research outputs and persistent identifiers\, respectively. Since March 2020\, she has been part of the ORCID team\, where she is currently the Associate Director of Engagement. \nWhy Should You Attend? \n\nUnderstand why ORCID is considered the most important Persistent Identifier for researchers\nGain insights into the usage of ORCID in OpenAIRE\nLearn about ORCID’s Search & Links wizards and best practices for integrations in Discovery Systems\n\nWhat Will You Gain? \n\nIn-depth knowledge about leveraging ORCID in your research workflows\nPractical tips for enhancing your research visibility and impact\nInsights into ORCID’s applications for research data management plan platforms.\n\nHow Can You Contribute? \n\nParticipate in Q&A session to shape future developments\nSuggest areas where ORCID integration could further benefit your work\nConnect with peers and experts in the field\n\nThis session is designed for all members of the research community\, from early-career researchers to seasoned professionals. \nWe look forward to your active participation! \nRegister here
URL:https://eosc-austria.at/events/openaire-graph-community-call/
LOCATION:Online
CATEGORIES:Online Events
ATTACH;FMTTYPE=image/webp:https://eosc-austria.at/wp-content/uploads/2024/09/Logo_Horizontal-27555593.webp
END:VEVENT
BEGIN:VEVENT
DTSTART;TZID=Europe/Paris:20241017T100000
DTEND;TZID=Europe/Paris:20241017T110000
DTSTAMP:20260423T172536
CREATED:20240919T145609Z
LAST-MODIFIED:20240919T145609Z
UID:19176-1729159200-1729162800@eosc-austria.at
SUMMARY:Forschungsdaten-Richtlinien in wissenschaftlichen Fachzeitschriften
DESCRIPTION:Wissenschaftliche Zeitschriftenverlage haben in den vergangenen Jahren begonnen\, Richtlinien für den Umgang mit den einer Publikation zugrundeliegenden Forschungsdaten zu verfassen. Derartige Datenrichtlinien und Empfehlungen zum Umgang mit Forschungsdaten haben für Forschende zunehmend an Relevanz gewonnen\, da sie im Rahmen des Forschungs- bzw. Publikationsprozesses berücksichtigt werden müssen. Um Forschende im Hinblick auf die Umsetzung der in den Datenrichtlinien formulierten Anforderungen beraten zu können\, haben wir mehr als 80 internationale wissenschaftliche Fachzeitschriften ausgewertet. Diese Zeitschriften stellen die Top-Publikationsorgane der an der WU vertretenen sozial- und wirtschaftswissenschaftlichen Forschungsschwerpunkte dar und werden zu Prämierungszwecken herangezogen. Die aus der Analyse gewonnen Erkenntnisse können dazu genutzt werden\, Forschende im Rahmen unserer FDM-Beratungen bei Publikationsvorhaben zu unterstützen. \nZeit und Ort: 17. Oktober 2024\, 10:00 – 11:00 Uhr\, online via Webex \nZielgruppe: \nForschende in den Sozial- und Wirtschaftswissenschaften\, Personal aus der Forschungsunterstützung \nSprache: Deutsch \nVortragender: \nThomas Seyffertitz\, WU Wien \nRegistrierung: \nUm an dem Webinar teilzunehmen\, registrieren Sie sich hier. \nMaterialien: \nDie Materialien zu diesem Webinar werden nachher hier zur Verfügung gestellt.
URL:https://eosc-austria.at/events/forschungsdaten-richtlinien-in-wissenschaftlichen-fachzeitschriften/
LOCATION:Online
CATEGORIES:Online Events
ATTACH;FMTTYPE=image/png:https://eosc-austria.at/wp-content/uploads/2023/07/sharedRDM-logo-orangeBG-e1689162072641.png
END:VEVENT
BEGIN:VEVENT
DTSTART;TZID=Europe/Paris:20241017T130000
DTEND;TZID=Europe/Paris:20241017T170000
DTSTAMP:20260423T172536
CREATED:20240918T120023Z
LAST-MODIFIED:20240918T120934Z
UID:19116-1729170000-1729184400@eosc-austria.at
SUMMARY:FAIR principles and practices for the Dutch Research Data Management Community
DESCRIPTION:The FAIR National Roadshow series is visiting The Netherlands on the 17h of October 2024!\nThe aim of this event is to present the outcomes and ongoing work of the FAIR-IMPACT project to the research community in the Netherlands\, and build relevant connections. \nDo you want to know where to start with FAIRification of sensitive data or how to assess the FAIRness of software? Learn about the FAIR principles and how to put them into practice during the interesting program\, which includes interactive workshops\, at the Dutch FAIR-IMPACT National Roadshow. Also\, find out who will win the RDNL Dutch Data Prize\, awarded to an individual or a team that makes research data FAIR. \nThis event will be in-person. The plenary sessions will be broadcasted and can be followed online. The workshop can’t be followed online. \nREGISTER NOW \n\n\nTarget audience: (LC)RDM community at large\, data support staff\, researchers and policy makers at universities\,universities of applied sciences and research institutes to join this event. \nLocation: This event will be in-person. The plenary sessions can be followed online by broadcast. \nLanguage: English \nDate: 17 October 2024\, 13:00 – 16:45 CEST \nLocal facilitator(s): Research Data Netherlands (RDNL)\, a national coalition of data service providers and expertise networks whose mission is to promote implementation and long-term sustainability of FAIR research data in the Netherlands\, and is existing of DANS\, SURF (both FI-partners)\, Health-RI and 4TU.ResearchData. \nAgenda\nModerator: Annette Langedijk\, Research Partner Lead at SURF – collaborative organisation for IT in Dutch education and research. \n\n\n\n\n\n\n\n\nTime (CEST)\nTitle\nPresenters\n\n\n13.00 – 13:10\nWelcome & context of the event in the framework of the FAIR-IMPACT project\nIngrid Dillo\, Senior Advisor at Data Archiving and Networked Service (DANS) and FAIR-IMPACT Coordinator\n\n\n13:10 – 13:45\nKeynote: She moved through the FAIR.\nJenny O’Neill\, Research Engagement Officer at HEAnet\n\n\n13:45 – 14:00\nBreak\n \n\n\n14:00 – 14:45\n1.1 Data Champions networks \n1.2 CAT & RaID\, how do these services help the research community? \n1.3 Measuring the FAIRness of research software\n1.1 Jenny O’Neill\, on behalf of Sonraí\, Bianca Gualandi\, University of Bologna and Esther Plomp\, TU Delft \n1.2 Wim Hugo\, DANS and Giacomo Cannizzaro\, SURF \n1.3 Elena Breitmoser\, EPCC and Neil P. Chue Hong\, EPCC \n \n\n\n14:45 – 15:00\nBreak\n \n\n\n15:00 – 15:45\n2.1 Where do I start with the FAIRification of Sensitive Data \n2.2 Ontology repositories and Semantic Artefact Catalogues in EOSC: the prism of FAIR-IMPACT \n2.3 EOSC IF Compliance Assessment\n2.1 Nina Grau\, INREA and Deborah Trope\, DANS \n2.2 Dr. Clement Jonquet\, INREA \n  \n2.3 Esteban Gonzalez Guardia\n\n\n15:45 – 16:00\nBreak\n \n\n\n16:00 – 16:45\nRDNL Dutch Data Prize award show. Who will be the winners of the next Dutch Data Prize award?\n\n\n\n16:45\nWrap-up and closure with drinks\nAnnette Langedijk\, Research Partner Lead at SURF
URL:https://eosc-austria.at/events/fair-principles-and-practices-for-the-dutch-research-data-management-community/
LOCATION:Online
CATEGORIES:Online Events
ATTACH;FMTTYPE=image/png:https://eosc-austria.at/wp-content/uploads/2024/09/National-Roadshow-Netherlands.png
END:VEVENT
BEGIN:VEVENT
DTSTART;TZID=Europe/Paris:20241018T130000
DTEND;TZID=Europe/Paris:20241018T170000
DTSTAMP:20260423T172536
CREATED:20240918T074817Z
LAST-MODIFIED:20240918T074817Z
UID:18973-1729256400-1729270800@eosc-austria.at
SUMMARY:OpenAIRE Graph Hands-On-Training
DESCRIPTION:You are cordially invited to our first OpenAIRE Graph training workshop this October. This first session will be dedicated to helping you learn or refine your skills on how to analyse the OpenAIRE Graph‘s data on the Google Cloud with Big Query. Designed for those interested in biblio- and scientometrics\, this is a hands-on workshop where you’ll be given the space to practice both simple and advanced queries with guidance from our trainers. Learn more here. \nMark your calendars for Friday\, October 18 13:00-17:00 CEST. You can register here. \nAnd don’t forget to register for our next OpenAIRE Graph Community Call\, where we’ll welcome special guest speaker Paloma Marín-Arraiza\, PhD\, Associate Director of Engagement at ORCID. In this Call\, she will dive into the OpenAIRE Graph – ORCID collaboration and the tools you can use to increase discoverability and enhance metadata. Learn more and register here.
URL:https://eosc-austria.at/events/openaire-graph-hands-on-training/
LOCATION:Online
CATEGORIES:Online Events
ATTACH;FMTTYPE=image/jpeg:https://eosc-austria.at/wp-content/uploads/2024/09/Training-Big-Query-scaled.jpg
END:VEVENT
BEGIN:VEVENT
DTSTART;VALUE=DATE:20241024
DTEND;VALUE=DATE:20241026
DTSTAMP:20260423T172536
CREATED:20240918T083623Z
LAST-MODIFIED:20240918T083623Z
UID:18998-1729728000-1729900799@eosc-austria.at
SUMMARY:3rd International Conference on Open Science and Innovation in Ukraine
DESCRIPTION:The 3rd International Conference on Open Science and Innovation in Ukraine will feature a comprehensive program including keynote speeches\, panel discussions\, workshops\, and presentations by renowned researchers\, industry leaders\, and policymakers. The conference sections have been meticulously designed in alignment with the National Action Plan for Open Science\, covering topics such as the development of national open research infrastructure\, reforming practices of scientific research evaluation\, ensuring open access to research results\, open research data and reproducibility of scientific research\, citizen science\, and innovation in Ukraine.
URL:https://eosc-austria.at/events/3rd-international-conference-on-open-science-and-innovation-in-ukraine/
LOCATION:Online
CATEGORIES:Online Events
ATTACH;FMTTYPE=image/jpeg:https://eosc-austria.at/wp-content/uploads/2024/09/Screenshot-2024-08-06-at-14.48.53.jpg
END:VEVENT
END:VCALENDAR