BEGIN:VCALENDAR
VERSION:2.0
PRODID:-// - ECPv6.15.20//NONSGML v1.0//EN
CALSCALE:GREGORIAN
METHOD:PUBLISH
X-ORIGINAL-URL:https://eosc-austria.at
X-WR-CALDESC:Events for 
REFRESH-INTERVAL;VALUE=DURATION:PT1H
X-Robots-Tag:noindex
X-PUBLISHED-TTL:PT1H
BEGIN:VTIMEZONE
TZID:Europe/Paris
BEGIN:DAYLIGHT
TZOFFSETFROM:+0100
TZOFFSETTO:+0200
TZNAME:CEST
DTSTART:20230326T010000
END:DAYLIGHT
BEGIN:STANDARD
TZOFFSETFROM:+0200
TZOFFSETTO:+0100
TZNAME:CET
DTSTART:20231029T010000
END:STANDARD
BEGIN:DAYLIGHT
TZOFFSETFROM:+0100
TZOFFSETTO:+0200
TZNAME:CEST
DTSTART:20240331T010000
END:DAYLIGHT
BEGIN:STANDARD
TZOFFSETFROM:+0200
TZOFFSETTO:+0100
TZNAME:CET
DTSTART:20241027T010000
END:STANDARD
BEGIN:DAYLIGHT
TZOFFSETFROM:+0100
TZOFFSETTO:+0200
TZNAME:CEST
DTSTART:20250330T010000
END:DAYLIGHT
BEGIN:STANDARD
TZOFFSETFROM:+0200
TZOFFSETTO:+0100
TZNAME:CET
DTSTART:20251026T010000
END:STANDARD
END:VTIMEZONE
BEGIN:VEVENT
DTSTART;VALUE=DATE:20241120
DTEND;VALUE=DATE:20241206
DTSTAMP:20260423T150912
CREATED:20241106T125015Z
LAST-MODIFIED:20241106T125015Z
UID:19417-1732060800-1733443199@eosc-austria.at
SUMMARY:Series of webinars: The Data Act in contracts
DESCRIPTION:Help us develop model contractual terms for data sharing and standard contractual clauses for switching between data processing services (cloud computing contracts) by sharing your opinion. \n\n\n\nBefore the Data Act starts applying from 12 September 2025\, the Commission will recommend model contractual terms for data access and use and standard contractual clauses for cloud computing. The Commission has set up an Expert Group to develop these models\, which will form the basis for the Commission Recommendation in 2025. These models intend to help especially small and medium-size companies and other organisations which may lack resources to draft and negotiate fair contractual clauses for data sharing or for cloud computing. \nIn November and December 2024\, the Commission will be hosting a series of 6 webinars with businesses\, policymakers\, lawyers\, and experts to discuss the development of both the draft Standard Contractual Clauses (SCCs) for cloud computing contracts and the draft Model Contractual Terms (MCTs) for data sharing. \nThe webinars are open to Member State authorities\, companies\, lawyers\, professors\, and organisations. You can register via the links below to take part in the discussions and help shape the contracts. Note that registrations will only be accepted if a professional email address is provided. \nFollowing registration\, participants will receive a Webex link and relevant documentation to support the discussion (including draft model terms and clauses) a few days before the event. \nWebinars\n20 November – Standard Contractual Clauses (SCCs)\nThis webinar will cover SCCs implementing the provisions of the Data Act: Switching and Exit\, Termination\, Security and business continuity. Registration fom \n21 November –  Standard Contractual Clauses (SCCs)\n\nThis webinar will cover SCCs on Liability\, Non-amendment\, Non-dispersion. Registration form \n27 November  – Model Contractual Terms (MCTs)\nThe topics covered in this webinar includes the contract between data holders and data users\, as well as the data use by the data holder\, arrangements for access to data by the user\, and transfer of the connected product to successors. Registration form \n28 November – Model Contractual Terms (MCTs)\nThe topics covered in this webinar includes the contract between data holders and data recipients but also the link with the user’s request\, the contract between the data recipient and the user\, as well as the ways in which data can be accessed by the data recipient. Registration form \n4 December – Model Contractual Terms (MCTs)\nThis webinar will cover the reasonable compensation for making data available agreed between data holders and data recipients under the Data Act\, as well as a possible compensation for the user in exchange of access and use of the data by the data holder in certain circumstances (for example when the user agrees not to share the data with other entities). Registration form \n5 December – Model Contractual Terms (MCTs)\nThis webinar covers voluntary data sharing and is relevant for bilateral or multilateral data sharing agreements but also for the use of MCTs in data spaces. Registration form
URL:https://eosc-austria.at/events/series-of-webinars-the-data-act-in-contracts/
LOCATION:Online
CATEGORIES:Online Events
ATTACH;FMTTYPE=image/jpeg:https://eosc-austria.at/wp-content/uploads/2024/11/GettyImages1072111470__NicoElNino__iStock_Getty_Images_Plus_1600px_FuSFpL8T2xNEgEjEX6mqwr8l64Q_174545.jpg
END:VEVENT
BEGIN:VEVENT
DTSTART;VALUE=DATE:20241203
DTEND;VALUE=DATE:20241206
DTSTAMP:20260423T150912
CREATED:20241115T110325Z
LAST-MODIFIED:20241115T110325Z
UID:19465-1733184000-1733443199@eosc-austria.at
SUMMARY:Transform your ideas into graphs! Visualization of research data
DESCRIPTION:The hackathon ‘Transform your ideas into graphs! Visualization of research data’ is a three-day online event hosted by the Infra4NextGen project. \nIndividuals or teams will produce visualizations of data for a chance to win a share of €4\,000. \nParticipants will showcase results using data from the European Social Survey (ESS)\, CROss-National Online Survey (CRONOS) Panel\, European Values Study (EVS) or Generations and Gender Programme (GGP). \nHackathon entrants can use any software or tools to create visualizations. \nWhy participate?\n\nCreate the best visualizations to win a share of €4\,000.\nDevelop and apply your data visualization skills.\nIn-depth and hands-on opportunity to improve your skills in visualizing your research outcomes.\nNetworking: Connect with fellow researchers and professionals in your community.\nAll participants will receive a certificate of participation.\n\nWhen?\nThe Hackathon will take place from 9am-3pm (CET) on 3-5 December 2024. \nWhere?\nOnline. More information will be sent to registrants. \nFor who?\n\nSocial science researchers\nPhD students in the social sciences\nResearchers interested in survey data\n\nPlease note that the Hackathon is not for learning\, but for applying data visualization skills. For training on data visualization\, we recommend attending one of the following events: \n\nWebinar: Data Visualization with R and Jupyter (19 November 2024)\nWorkshop: Open Science and Reproducible Research in RStudio and Jupyter Notebook​ (27-28 November 2024)\n\nHow?\nRegister as a team or individually. If you sign up individually but want to work in a group\, we will help you form a team during the event\, depending on your research interests. \nRegistration closes on 30 November 2024.
URL:https://eosc-austria.at/events/transform-your-ideas-into-graphs-visualization-of-research-data/
LOCATION:Online
CATEGORIES:Online Events
ATTACH;FMTTYPE=image/jpeg:https://eosc-austria.at/wp-content/uploads/2024/11/AdobeStock_808869374-1024x683-1.jpeg
END:VEVENT
BEGIN:VEVENT
DTSTART;TZID=Europe/Paris:20241204T143000
DTEND;TZID=Europe/Paris:20241204T160000
DTSTAMP:20260423T150912
CREATED:20241114T151235Z
LAST-MODIFIED:20241114T151235Z
UID:19453-1733322600-1733328000@eosc-austria.at
SUMMARY:Save the date for the 1st Open Science Monitoring Initiative public meeting
DESCRIPTION:We are pleased to invite you to the first Open Science Monitoring Initiative (OSMI) public meeting on Wednesday\, 4 December 2024 between 2.30 pm and 4 pm CET. This meeting is open to everyone and will be recorded. \nThe OSMI Coordination Committee will outline the issues and the reasons behind establishing the Initiative\, and OSMI’s goals in brief. We will then update the community on the status of the consultation of the Principles of Open Science Monitoring. We will end by introducing you to the first working groups and will encourage you to join them. Recruiting OSMI members is now our top priority. \nPlease register here to attend the OSMI December Meeting: https://us02web.zoom.us/meeting/register/tZMrcumopzIpGdFGsd1VfQdESHIch-1BrgGN \nRegistration for the first working groups will remain open until Wednesday\, 15 January 2025. \nWe are looking forward to this first important milestone. Please feel free to share this invitation within your communities.
URL:https://eosc-austria.at/events/save-the-date-for-the-1st-open-science-monitoring-initiative-public-meeting/
LOCATION:Online
CATEGORIES:Online Events
ATTACH;FMTTYPE=image/webp:https://eosc-austria.at/wp-content/uploads/2024/11/logo-osmi-1.png.webp
END:VEVENT
BEGIN:VEVENT
DTSTART;TZID=Europe/Paris:20241211T100000
DTEND;TZID=Europe/Paris:20241211T150000
DTSTAMP:20260423T150912
CREATED:20241114T112910Z
LAST-MODIFIED:20241114T112910Z
UID:19444-1733911200-1733929200@eosc-austria.at
SUMMARY:OA-Repositorien und Forschungsinformationssysteme
DESCRIPTION:Am 11.Dezember 2024\, 10:00 Uhr lädt das Projekt „Pro-OAR-DE“ zum zweiten virtuellen Vernetzungsforum ein\, um Lösungsansätze für die Zusammenarbeit von Forschungsinformationssystemen (FIS/CRIS) und institutionellen Repositorien zu erarbeiten. \nDie Veranstaltung richtet sich an Open-Access-Beauftragte\, Repositorien-Manager und Führungskräfte von Bibliotheken und Rechenzentren. Neben Experteninputs stehen intensive Kleingruppenarbeiten im Fokus\, deren Ergebnisse in eine praxisnahe Handreichung einfließen werden. \nDas seit Herbst 2023 laufende\, BMBF-geförderte Projekt hat bereits zentrale technische und servicebezogene Herausforderungen identifiziert und erste Ergebnisse veröffentlicht.
URL:https://eosc-austria.at/events/oa-repositorien-und-forschungsinformationssysteme/
LOCATION:Online
CATEGORIES:Online Events
ATTACH;FMTTYPE=image/png:https://eosc-austria.at/wp-content/uploads/2024/11/logo.png
END:VEVENT
END:VCALENDAR