BEGIN:VCALENDAR
VERSION:2.0
PRODID:-// - ECPv6.15.20//NONSGML v1.0//EN
CALSCALE:GREGORIAN
METHOD:PUBLISH
X-ORIGINAL-URL:https://eosc-austria.at
X-WR-CALDESC:Events for 
REFRESH-INTERVAL;VALUE=DURATION:PT1H
X-Robots-Tag:noindex
X-PUBLISHED-TTL:PT1H
BEGIN:VTIMEZONE
TZID:Europe/Paris
BEGIN:DAYLIGHT
TZOFFSETFROM:+0100
TZOFFSETTO:+0200
TZNAME:CEST
DTSTART:20240331T010000
END:DAYLIGHT
BEGIN:STANDARD
TZOFFSETFROM:+0200
TZOFFSETTO:+0100
TZNAME:CET
DTSTART:20241027T010000
END:STANDARD
BEGIN:DAYLIGHT
TZOFFSETFROM:+0100
TZOFFSETTO:+0200
TZNAME:CEST
DTSTART:20250330T010000
END:DAYLIGHT
BEGIN:STANDARD
TZOFFSETFROM:+0200
TZOFFSETTO:+0100
TZNAME:CET
DTSTART:20251026T010000
END:STANDARD
BEGIN:DAYLIGHT
TZOFFSETFROM:+0100
TZOFFSETTO:+0200
TZNAME:CEST
DTSTART:20260329T010000
END:DAYLIGHT
BEGIN:STANDARD
TZOFFSETFROM:+0200
TZOFFSETTO:+0100
TZNAME:CET
DTSTART:20261025T010000
END:STANDARD
END:VTIMEZONE
BEGIN:VEVENT
DTSTART;TZID=Europe/Paris:20250210T100000
DTEND;TZID=Europe/Paris:20250210T160000
DTSTAMP:20260423T123633
CREATED:20250109T110905Z
LAST-MODIFIED:20250109T110927Z
UID:19715-1739181600-1739203200@eosc-austria.at
SUMMARY:Tools and Services to improve the quality of Research Software
DESCRIPTION:  \n\n\n\n\n\n\n\n\nEVERSE is running an interactive online workshop which aims to examine which tools and services researchers use to improve the quality of research software\, and how they use them. The workshop is titled “Evaluating Tools and Services to improve the quality of research software” and will take place on Monday 10 February 2025 between 10:00 and 16:00 CET. \nThe workshop is open to those who work with or develop research software and want to uphold high-quality standards regarding FAIRness\, sustainability\, portability\, testing\, security\, etc. Both non-EVERSE and EVERSE members are welcome. Members belonging to any of the 5 EOSC Science Clusters are also encouraged to take part. \nThe workshop will provide opportunities for knowledge exchange and discussion on relevant tools used to improve the quality of research software. It will also allow participants to learn from other communities\, capture existing practices\, and identify gaps in available tooling. \nA draft agenda and further details will be circulated closer to the date. \nThe event will last a full day\, but participants are welcome to attend for as long as possible if full attendance is not an option due to other commitments. \n\n\n\n\n\n\n\n\nRegister here\n\n\n\n\n\n\n\n\n 
URL:https://eosc-austria.at/events/tools-and-services-to-improve-the-quality-of-research-software/
LOCATION:Online
CATEGORIES:Online Events
ATTACH;FMTTYPE=image/png:https://eosc-austria.at/wp-content/uploads/2025/01/Copy-of-SSI-2.png
END:VEVENT
BEGIN:VEVENT
DTSTART;TZID=Europe/Paris:20250225T160000
DTEND;TZID=Europe/Paris:20250225T170000
DTSTAMP:20260423T123633
CREATED:20241211T140801Z
LAST-MODIFIED:20241211T140801Z
UID:19545-1740499200-1740502800@eosc-austria.at
SUMMARY:Teaching what we Practice – Open Science in Higher Education
DESCRIPTION:Teaching what we practice means emphasizing the importance of integrating Open Science principles into academic teaching. The relevance of these practices lies in fostering a learning environment that mirrors the evolving landscape of scientific research. By embracing Open Science in higher education\, instructors can teach students not only theoretical knowledge but also practical skills in transparent\, accessible\, and reproducible research. This approach includes employing open science practices such as filling out a pre-registration form\, making students aware that sharing materials and data is helpful\, and highlighting the importance of replications. As higher education institutions increasingly adopt these practices\, they prepare students for a future where open and collaborative research is the norm\, bridging the gap between academic training and real-world scientific practices. Lastly\, current students seem to be open to open science practices anyways – creating a winning setting.
URL:https://eosc-austria.at/events/teaching-what-we-practice-open-science-in-higher-education/
LOCATION:Online
CATEGORIES:Online Events
ATTACH;FMTTYPE=image/png:https://eosc-austria.at/wp-content/uploads/2024/12/open-economics-guide-logo-1.png
END:VEVENT
END:VCALENDAR