BEGIN:VCALENDAR
VERSION:2.0
PRODID:-// - ECPv6.15.20//NONSGML v1.0//EN
CALSCALE:GREGORIAN
METHOD:PUBLISH
X-ORIGINAL-URL:https://eosc-austria.at
X-WR-CALDESC:Events for 
REFRESH-INTERVAL;VALUE=DURATION:PT1H
X-Robots-Tag:noindex
X-PUBLISHED-TTL:PT1H
BEGIN:VTIMEZONE
TZID:Europe/Paris
BEGIN:DAYLIGHT
TZOFFSETFROM:+0100
TZOFFSETTO:+0200
TZNAME:CEST
DTSTART:20210328T010000
END:DAYLIGHT
BEGIN:STANDARD
TZOFFSETFROM:+0200
TZOFFSETTO:+0100
TZNAME:CET
DTSTART:20211031T010000
END:STANDARD
BEGIN:DAYLIGHT
TZOFFSETFROM:+0100
TZOFFSETTO:+0200
TZNAME:CEST
DTSTART:20220327T010000
END:DAYLIGHT
BEGIN:STANDARD
TZOFFSETFROM:+0200
TZOFFSETTO:+0100
TZNAME:CET
DTSTART:20221030T010000
END:STANDARD
BEGIN:DAYLIGHT
TZOFFSETFROM:+0100
TZOFFSETTO:+0200
TZNAME:CEST
DTSTART:20230326T010000
END:DAYLIGHT
BEGIN:STANDARD
TZOFFSETFROM:+0200
TZOFFSETTO:+0100
TZNAME:CET
DTSTART:20231029T010000
END:STANDARD
END:VTIMEZONE
BEGIN:VEVENT
DTSTART;VALUE=DATE:20221108
DTEND;VALUE=DATE:20221213
DTSTAMP:20260424T205536
CREATED:20240424T105445Z
LAST-MODIFIED:20240424T105523Z
UID:16765-1667865600-1670889599@eosc-austria.at
SUMMARY:Series of Synchronisation Force Workshops
DESCRIPTION:Four online collaborative sessions between the 21st and 24th of November 2022 will assess the implementation of selected recommendations and ambitions from the Turning FAIR into Reality Report (2018)\, the FAIRsFAIR White Paper (2021)\, the SRIA (version June 2021) and EOSC Multi-Annual Roadmap (2023-2024).
URL:https://eosc-austria.at/event/series-of-synchronisation-force-workshops
LOCATION:Online
CATEGORIES:Online Events
ATTACH;FMTTYPE=image/png:https://eosc-austria.at/wp-content/uploads/2022/11/EOSC-Fair-I.png
END:VEVENT
BEGIN:VEVENT
DTSTART;VALUE=DATE:20221115
DTEND;VALUE=DATE:20221116
DTSTAMP:20260424T205536
CREATED:20240424T110130Z
LAST-MODIFIED:20240424T110130Z
UID:16771-1668470400-1668556799@eosc-austria.at
SUMMARY:National-level experiences of pathogen-related data sharing in pandemic times
DESCRIPTION:Meeting aims: \n\nExchange national experiences (technology and policy aspects) on data sharing during the COVID-19 pandemic\nLearn about ongoing projects in relation to COVID-19 and other pathogen data sharing/genomic surveillance\nCreate a community for knowledge exchange/solving bottlenecks across sectors\, e.g.\, social sciences\, molecular life sciences\, clinical and epidemiological sciences\, hospitals and across country borders\n\n 
URL:https://eosc-austria.at/event/national-level-experiences-of-pathogen-related-data-sharing-in-pandemic-times
LOCATION:Online
CATEGORIES:Online Events
ATTACH;FMTTYPE=image/png:https://eosc-austria.at/wp-content/uploads/2023/09/By-Covid-22.png
END:VEVENT
END:VCALENDAR