BEGIN:VCALENDAR
VERSION:2.0
PRODID:-// - ECPv6.15.20//NONSGML v1.0//EN
CALSCALE:GREGORIAN
METHOD:PUBLISH
X-ORIGINAL-URL:https://eosc-austria.at
X-WR-CALDESC:Events for 
REFRESH-INTERVAL;VALUE=DURATION:PT1H
X-Robots-Tag:noindex
X-PUBLISHED-TTL:PT1H
BEGIN:VTIMEZONE
TZID:Europe/Paris
BEGIN:DAYLIGHT
TZOFFSETFROM:+0100
TZOFFSETTO:+0200
TZNAME:CEST
DTSTART:20230326T010000
END:DAYLIGHT
BEGIN:STANDARD
TZOFFSETFROM:+0200
TZOFFSETTO:+0100
TZNAME:CET
DTSTART:20231029T010000
END:STANDARD
BEGIN:DAYLIGHT
TZOFFSETFROM:+0100
TZOFFSETTO:+0200
TZNAME:CEST
DTSTART:20240331T010000
END:DAYLIGHT
BEGIN:STANDARD
TZOFFSETFROM:+0200
TZOFFSETTO:+0100
TZNAME:CET
DTSTART:20241027T010000
END:STANDARD
BEGIN:DAYLIGHT
TZOFFSETFROM:+0100
TZOFFSETTO:+0200
TZNAME:CEST
DTSTART:20250330T010000
END:DAYLIGHT
BEGIN:STANDARD
TZOFFSETFROM:+0200
TZOFFSETTO:+0100
TZNAME:CET
DTSTART:20251026T010000
END:STANDARD
END:VTIMEZONE
BEGIN:VEVENT
DTSTART;VALUE=DATE:20240514
DTEND;VALUE=DATE:20240524
DTSTAMP:20260424T012433
CREATED:20240508T141016Z
LAST-MODIFIED:20240508T141016Z
UID:17961-1715644800-1716508799@eosc-austria.at
SUMMARY:RDA’s 22nd Plenary Meeting
DESCRIPTION:The Research Data Alliance’s 22nd Plenary meeting (VP22) is now confirmed and will take place as a fully virtual event. Organised by the RDA Secretariat\, VP22 will be held for half-days spread across two weeks\, between 14-23 May 2024. \nWith the theme “Local Action – Global Connection”\, which also aligns with the four themes of RDA’s Strategic Plan\, the plenary will focus on collaboration and engagement with our global community through the sharing of local experiences\, best practices and  recommendations. \nWe invite individuals and groups at all stages of their careers to contribute to the discussions\, meet data professionals\, and get involved in the RDA community. Over the course of two weeks\, RDA Working and Interest Groups\, Communities of Practice and Birds of a Feather sessions will address the most significant challenges that data leaders face today\, presenting ongoing research that are building the fundamentals for data science. \nRegardless of where you are in the world\, you won’t need to travel anywhere! Join VP22 from the comfort of your preferred place. \nPlanning for the VP22 is underway\, and we look forward to sharing further details soon!
URL:https://eosc-austria.at/events/rdas-22nd-plenary-meeting/
LOCATION:Online
CATEGORIES:Online Events
ATTACH;FMTTYPE=image/png:https://eosc-austria.at/wp-content/uploads/2024/05/P22-Banner-Large-Resolution-All-Text-2048x1083-1.png
END:VEVENT
BEGIN:VEVENT
DTSTART;TZID=Europe/Paris:20240514T100000
DTEND;TZID=Europe/Paris:20240514T230000
DTSTAMP:20260424T012433
CREATED:20240508T140507Z
LAST-MODIFIED:20240508T140507Z
UID:17957-1715680800-1715727600@eosc-austria.at
SUMMARY:Assessing Open Access Books: Shedding Light on Peer Review with PRISM
DESCRIPTION:This webinar will present the Peer Review Information Service for Monographs (PRISM) and discuss how it can be used in research assessment. PRISM aims to enhance trust in Open Access book publishing through increased transparency in the peer review process\, offering publishers a standardised platform to display their peer review procedures\, integrate metadata\, ultimately building trust in Open Access book publishing. \nAfter attending this webinar\, you should: \n\nUnderstand peer review in relation to Responsible Research Assessment;\nLearn how PRISM works and how it helps increase transparency in Peer Review for OA books;\nReflect on how PRISM could be useful in the context of Responsible Research Assessment.
URL:https://eosc-austria.at/events/assessing-open-access-books-shedding-light-on-peer-review-with-prism/
LOCATION:Online
CATEGORIES:Online Events
ATTACH;FMTTYPE=image/png:https://eosc-austria.at/wp-content/uploads/2024/05/webinar-PRISM-promo.png
END:VEVENT
BEGIN:VEVENT
DTSTART;TZID=Europe/Paris:20240514T140000
DTEND;TZID=Europe/Paris:20240514T160000
DTSTAMP:20260424T012433
CREATED:20240508T135814Z
LAST-MODIFIED:20240508T135814Z
UID:17950-1715695200-1715702400@eosc-austria.at
SUMMARY:Assessing national current FAIR-enabling capabilities
DESCRIPTION:The “FAIR Implementation Workshop – Assessing national current FAIR-enabling capabilities” will take place on 14 May 2024 14:00-16:00 CEST. Confirm your registration below. Note: Registration for the workshop is free but mandatory. \nThe Coalition for Advancing Research Assessment (CoARA) is a group of organisations who work on harmonising the assessment of research. It takes into account practices and activities that maximise the quality and impact of research. It involves basing assessment primarily on qualitative judgment\, for which peer review is central\, supported by responsible use of quantitative indicators. \nThis two-hour workshop will focus on the topic of research assessment to help the selected candidates to draft their FAIR implementation action plan by taking into account the research assessment aspect.
URL:https://eosc-austria.at/events/assessing-national-current-fair-enabling-capabilities/
LOCATION:Online
CATEGORIES:Online Events
ATTACH;FMTTYPE=image/png:https://eosc-austria.at/wp-content/uploads/2024/05/FAIR-Implementation-Workshops-webpage.png
END:VEVENT
END:VCALENDAR