BEGIN:VCALENDAR
VERSION:2.0
PRODID:-// - ECPv6.15.20//NONSGML v1.0//EN
CALSCALE:GREGORIAN
METHOD:PUBLISH
X-ORIGINAL-URL:https://eosc-austria.at
X-WR-CALDESC:Events for 
REFRESH-INTERVAL;VALUE=DURATION:PT1H
X-Robots-Tag:noindex
X-PUBLISHED-TTL:PT1H
BEGIN:VTIMEZONE
TZID:Europe/Paris
BEGIN:DAYLIGHT
TZOFFSETFROM:+0100
TZOFFSETTO:+0200
TZNAME:CEST
DTSTART:20230326T010000
END:DAYLIGHT
BEGIN:STANDARD
TZOFFSETFROM:+0200
TZOFFSETTO:+0100
TZNAME:CET
DTSTART:20231029T010000
END:STANDARD
BEGIN:DAYLIGHT
TZOFFSETFROM:+0100
TZOFFSETTO:+0200
TZNAME:CEST
DTSTART:20240331T010000
END:DAYLIGHT
BEGIN:STANDARD
TZOFFSETFROM:+0200
TZOFFSETTO:+0100
TZNAME:CET
DTSTART:20241027T010000
END:STANDARD
BEGIN:DAYLIGHT
TZOFFSETFROM:+0100
TZOFFSETTO:+0200
TZNAME:CEST
DTSTART:20250330T010000
END:DAYLIGHT
BEGIN:STANDARD
TZOFFSETFROM:+0200
TZOFFSETTO:+0100
TZNAME:CET
DTSTART:20251026T010000
END:STANDARD
END:VTIMEZONE
BEGIN:VEVENT
DTSTART;VALUE=DATE:20240514
DTEND;VALUE=DATE:20240524
DTSTAMP:20260424T001844
CREATED:20240508T141016Z
LAST-MODIFIED:20240508T141016Z
UID:17961-1715644800-1716508799@eosc-austria.at
SUMMARY:RDA’s 22nd Plenary Meeting
DESCRIPTION:The Research Data Alliance’s 22nd Plenary meeting (VP22) is now confirmed and will take place as a fully virtual event. Organised by the RDA Secretariat\, VP22 will be held for half-days spread across two weeks\, between 14-23 May 2024. \nWith the theme “Local Action – Global Connection”\, which also aligns with the four themes of RDA’s Strategic Plan\, the plenary will focus on collaboration and engagement with our global community through the sharing of local experiences\, best practices and  recommendations. \nWe invite individuals and groups at all stages of their careers to contribute to the discussions\, meet data professionals\, and get involved in the RDA community. Over the course of two weeks\, RDA Working and Interest Groups\, Communities of Practice and Birds of a Feather sessions will address the most significant challenges that data leaders face today\, presenting ongoing research that are building the fundamentals for data science. \nRegardless of where you are in the world\, you won’t need to travel anywhere! Join VP22 from the comfort of your preferred place. \nPlanning for the VP22 is underway\, and we look forward to sharing further details soon!
URL:https://eosc-austria.at/events/rdas-22nd-plenary-meeting/
LOCATION:Online
CATEGORIES:Online Events
ATTACH;FMTTYPE=image/png:https://eosc-austria.at/wp-content/uploads/2024/05/P22-Banner-Large-Resolution-All-Text-2048x1083-1.png
END:VEVENT
BEGIN:VEVENT
DTSTART;TZID=Europe/Paris:20240515T090000
DTEND;TZID=Europe/Paris:20240515T120000
DTSTAMP:20260424T001844
CREATED:20240508T140211Z
LAST-MODIFIED:20240508T140211Z
UID:17953-1715763600-1715774400@eosc-austria.at
SUMMARY:URN:NBN webinar
DESCRIPTION:Join us for an exciting URN:NBN webinar hosted by the National Library of Finland on 15 May 2024\, from 9 a.m. to 12 p.m. (UTC +2) or 10 a.m. to 1 p.m. (Finnish time). \nExplore the upcoming URN:NBN landscape report and discover the PID meta resolver developed for EOSC by the FAIRCORE4EOSC project. Dive into case studies presented by current URN and NBN providers from European national libraries. \nEngage in discussions on URN use and policy\, and contribute to shaping future URN:NBN development and collaboration. \nURN:NBN service providers\, users\, and PID enthusiasts are all invited to participate! \n  \nPlease note the day’s schedule is still subject to change. \n9:00-9:05         Welcome (NatLibFin) \n9:05-9:25         URN:NBN Landscape Report (Ulriika Vihervalli) \n9:25-9:45         PID Meta Resolver (FAIRCORE4EOSC) \n9:45-10:00       Discussion / Q&A \n10:00-10:15     Break \nURN:NBNs at National Levels \n10:15-10:25     National Library of Finland (Jyrki Ilva & Emma Pietarila) \n10:25-10:35     National Library of Germany (Stephanie Palek) \n10:35-10:45     National Library of the Netherlands (Sam Alloing) \n10:45-10:55     National Central Library of Florence (Chiara Storti) \n10:55-11:05     Discussion / Q&A \n11:05-11:20     Break \nFuture of URN:NBNs \n11:20-11:40    Small Group Discussion: URN:NBN Development and Collaboration \n11:40-11:55    Open Floor: Group Discussion Results \n11:55-12:00     End of Webinar (Ulriika Vihervalli)
URL:https://eosc-austria.at/events/urnnbn-webinar/
LOCATION:Online
CATEGORIES:Online Events
ATTACH;FMTTYPE=image/jpeg:https://eosc-austria.at/wp-content/uploads/2024/05/URN-Webinar-FAIRCORE4EOSC.jpg
END:VEVENT
BEGIN:VEVENT
DTSTART;TZID=Europe/Paris:20240515T103000
DTEND;TZID=Europe/Paris:20240515T120000
DTSTAMP:20260424T001844
CREATED:20240503T064309Z
LAST-MODIFIED:20240503T064309Z
UID:17378-1715769000-1715774400@eosc-austria.at
SUMMARY:How to: Aufbau eines institutionellen OER-Ökosystems - Einblicke in Open Educational Resources an der Universität Wien
DESCRIPTION:In der dynamischen Hochschullandschaft hat sich die Integration von Open Educational Resources (OER) zu einer zentralen Kraft entwickelt\, die Zugänglichkeit von Wissen\, Innovation in der Lehre und Zusammenarbeit\nvon Expert*innen vorantreibt. Dieses Webinar befasst sich mit dem Aufbau eines institutionellen OER-Ökosystems aus der Hochschul-Perspektive und gibt Einblicke in eine Umsetzung am Beispiel der Universität Wien. \nIm Kern geht es auf dem Weg zum Aufbau von OER-Support-Strukturen – die je nach Gestaltung des OER-Ökosystems eng verbunden u.a. mit FDM-Support wirken – darum\, die vielfältigen Bedürfnisse und Perspektiven der verschiedenen Interessengruppen zu berücksichtigen\, darunter Nutzer*innen\, Produzent*innen\, Infrastrukturmanager*innen und Entscheidungsträger*innen. Indem diese unterschiedlichen Perspektiven beleuchtet werden\, können Institutionen fundierte Wege zur praktischen Umsetzung von Open Education aufzeigen. \nParallelen zur institutionellen Verankerung von Open Access und Open Data in der Forschung zeigen\, dass OER als offen lizenzierte Publikationen aus der Lehre eine Transformation eben dieser bedeuten. Dazu ist es notwendig\, nicht nur die Kompetenz für die Nutzung und Erstellung von OER zu fördern\, sondern auch ihre nachhaltige Verfügbarkeit für alle Beteiligten sicherzustellen – all dies unterstützt durch Infrastrukturen und Services des jeweiligen OER-Ökosystems\, oft eng verzahnt mit forschungsunterstützenden Services. \nIm Webinar wird vor diesem Hintergrund vor allem die Rolle der transdisziplinären Zusammenarbeit zwischen den wichtigsten Akteuren im Auf-/Ausbau eines institutionellen OER-Ökosystems\, einschließlich E-Learning-Zentren\, zentralen IT-Diensten und Bibliotheken aufgezeigt. Durch die enge Kooperation dieser Abteilungen können Hochschulen Lehrkräfte und Mitarbeiter*innen effektiv bei der Einbettung von OER unterstützen. Zudem werden für Hochschulen nachnutzbare Ergebnisse aus dem durch das BMBWF geförderte OER-Gesamtpaket für den österreichischen Hochschulraum „Open Education Austria Advanced“ in diesem Kontext beleuchtet und mögliche weitere Wege der Umsetzung aufgezeigt.
URL:https://eosc-austria.at/events/how-to-aufbau-eines-institutionellen-oer-okosystems-einblicke-in-open-educational-resources-an-der-universitat-wien/
LOCATION:Online
CATEGORIES:Online Events
ATTACH;FMTTYPE=image/png:https://eosc-austria.at/wp-content/uploads/2023/12/shared-RDM.png
END:VEVENT
BEGIN:VEVENT
DTSTART;TZID=Europe/Paris:20240515T140000
DTEND;TZID=Europe/Paris:20240515T160000
DTSTAMP:20260424T001844
CREATED:20240423T132221Z
LAST-MODIFIED:20240423T132303Z
UID:16680-1715781600-1715788800@eosc-austria.at
SUMMARY:UNESCO Working Groups on Open Science: Policy and Policy Instruments
DESCRIPTION:The subject of our discussion will be ways to assess the impact of policy and policy instruments pertaining to open science.
URL:https://eosc-austria.at/events/unesco-working-groups-on-open-science-policy-and-policy-instruments/
LOCATION:Online
CATEGORIES:Online Events
ATTACH;FMTTYPE=image/jpeg:https://eosc-austria.at/wp-content/uploads/2024/03/open-science.jpg
END:VEVENT
END:VCALENDAR