BEGIN:VCALENDAR
VERSION:2.0
PRODID:-// - ECPv6.15.20//NONSGML v1.0//EN
CALSCALE:GREGORIAN
METHOD:PUBLISH
X-ORIGINAL-URL:https://eosc-austria.at
X-WR-CALDESC:Events for 
REFRESH-INTERVAL;VALUE=DURATION:PT1H
X-Robots-Tag:noindex
X-PUBLISHED-TTL:PT1H
BEGIN:VTIMEZONE
TZID:Europe/Paris
BEGIN:DAYLIGHT
TZOFFSETFROM:+0100
TZOFFSETTO:+0200
TZNAME:CEST
DTSTART:20230326T010000
END:DAYLIGHT
BEGIN:STANDARD
TZOFFSETFROM:+0200
TZOFFSETTO:+0100
TZNAME:CET
DTSTART:20231029T010000
END:STANDARD
BEGIN:DAYLIGHT
TZOFFSETFROM:+0100
TZOFFSETTO:+0200
TZNAME:CEST
DTSTART:20240331T010000
END:DAYLIGHT
BEGIN:STANDARD
TZOFFSETFROM:+0200
TZOFFSETTO:+0100
TZNAME:CET
DTSTART:20241027T010000
END:STANDARD
BEGIN:DAYLIGHT
TZOFFSETFROM:+0100
TZOFFSETTO:+0200
TZNAME:CEST
DTSTART:20250330T010000
END:DAYLIGHT
BEGIN:STANDARD
TZOFFSETFROM:+0200
TZOFFSETTO:+0100
TZNAME:CET
DTSTART:20251026T010000
END:STANDARD
END:VTIMEZONE
BEGIN:VEVENT
DTSTART;TZID=Europe/Paris:20240529T150000
DTEND;TZID=Europe/Paris:20240529T163000
DTSTAMP:20260423T230716
CREATED:20240503T064530Z
LAST-MODIFIED:20240503T064530Z
UID:17380-1716994800-1717000200@eosc-austria.at
SUMMARY:Your Work | Your Choice. Open Research an der UdK Berlin am Beispiel des Forschungsdatenmanagements
DESCRIPTION:Die Universität der Künste Berlin betrachtet Open Research und damit auch Forschungsdatenmanagement immer im Kontext von Kunst und Wissenschaft. Die damit verfolgte offene Zugänglichkeit\, Nachvollziehbarkeit und – wo möglich – Nachnutzbarkeit künstlerischer wie wissenschaftlicher Prozesse ist ein Zusammenspiel diverser Aspekte\, die noch dazu zahlreichen rechtlichen wie technischen Fragen unterliegen. Zudem sind an der UdK Berlin Forschung und Lehre eng miteinander verknüpft\, sodass auch primär forschungsrelevante Themen wie Open Research ebenso für die Lehre von großer Bedeutung sind. \nAm Beispiel der Universitätsbibliothek wird der Vortrag die Komplexität des Forschungsdatenmanagements in den Künsten verdeutlichen und aufzeigen\, welche Möglichkeiten jetzt schon bestehen und wo / bei wem angesetzt werden muss\, um das jetzt noch Unmögliche perspektivisch umsetzen zu können.
URL:https://eosc-austria.at/events/your-work-your-choice-open-research-an-der-udk-berlin-am-beispiel-des-forschungsdatenmanagements/
LOCATION:Online
CATEGORIES:Online Events
ATTACH;FMTTYPE=image/png:https://eosc-austria.at/wp-content/uploads/2023/12/shared-RDM.png
END:VEVENT
END:VCALENDAR