BEGIN:VCALENDAR
VERSION:2.0
PRODID:-// - ECPv6.15.20//NONSGML v1.0//EN
CALSCALE:GREGORIAN
METHOD:PUBLISH
X-ORIGINAL-URL:https://eosc-austria.at
X-WR-CALDESC:Events for 
REFRESH-INTERVAL;VALUE=DURATION:PT1H
X-Robots-Tag:noindex
X-PUBLISHED-TTL:PT1H
BEGIN:VTIMEZONE
TZID:Europe/Paris
BEGIN:DAYLIGHT
TZOFFSETFROM:+0100
TZOFFSETTO:+0200
TZNAME:CEST
DTSTART:20230326T010000
END:DAYLIGHT
BEGIN:STANDARD
TZOFFSETFROM:+0200
TZOFFSETTO:+0100
TZNAME:CET
DTSTART:20231029T010000
END:STANDARD
BEGIN:DAYLIGHT
TZOFFSETFROM:+0100
TZOFFSETTO:+0200
TZNAME:CEST
DTSTART:20240331T010000
END:DAYLIGHT
BEGIN:STANDARD
TZOFFSETFROM:+0200
TZOFFSETTO:+0100
TZNAME:CET
DTSTART:20241027T010000
END:STANDARD
BEGIN:DAYLIGHT
TZOFFSETFROM:+0100
TZOFFSETTO:+0200
TZNAME:CEST
DTSTART:20250330T010000
END:DAYLIGHT
BEGIN:STANDARD
TZOFFSETFROM:+0200
TZOFFSETTO:+0100
TZNAME:CET
DTSTART:20251026T010000
END:STANDARD
END:VTIMEZONE
BEGIN:VEVENT
DTSTART;TZID=Europe/Paris:20240530T120000
DTEND;TZID=Europe/Paris:20240530T130000
DTSTAMP:20260423T230716
CREATED:20240521T125900Z
LAST-MODIFIED:20240521T125900Z
UID:18167-1717070400-1717074000@eosc-austria.at
SUMMARY:The WorldFAIR Webinar Series: Guidelines and Recommendations from the Case Study on Population Health
DESCRIPTION:The Implementation Network for Sharing Population Information from Research Entities (INSPIRE) project is assembling technologies and standards in support of a data hub that facilitates federated and/or shared research capable of interoperating across often-neglected low-resource settings: it aims to provide a platform-as-a-service\, which can make data of disparate types available to many different styles of analysis\, among which AI systems are increasingly prominent. \nINSPIRE uses OMOP\, a common data model that is becoming the gold standard for systematically integrating health data from disparate sources and conducting observational research at scale using routine clinical care data. However\, OMOP is not completely FAIR29 and further work is needed to improve the ability to integrate diverse sources of data. \nThis case study team will improve the interoperation of OMOP with other standards to enable machine-actionable descriptions of data structure and provenance (e.g.\, DDI-CDI\, PROV-O\, SDTL); the composition of measurements focused on the objects of research (e.g.\, I-ADOPT); record linkage modeling for creating and evaluating bridges that connect domains\, vocabularies (e.g.\, SKOS); and data discovery (e.g.\, Schema.org\, DCAT). This suite of standards forms the basis of an ‘AI-Ready’ description of data suitable for use across domain and institutional boundaries.
URL:https://eosc-austria.at/events/the-worldfair-webinar-series-guidelines-and-recommendations-from-the-case-study-on-population-health/
LOCATION:Online
CATEGORIES:Online Events
ATTACH;FMTTYPE=image/webp:https://eosc-austria.at/wp-content/uploads/2024/05/petals_logos.2.0-01.webp
END:VEVENT
END:VCALENDAR