BEGIN:VCALENDAR
VERSION:2.0
PRODID:-// - ECPv6.15.20//NONSGML v1.0//EN
CALSCALE:GREGORIAN
METHOD:PUBLISH
X-ORIGINAL-URL:https://eosc-austria.at
X-WR-CALDESC:Events for 
REFRESH-INTERVAL;VALUE=DURATION:PT1H
X-Robots-Tag:noindex
X-PUBLISHED-TTL:PT1H
BEGIN:VTIMEZONE
TZID:Europe/Paris
BEGIN:DAYLIGHT
TZOFFSETFROM:+0100
TZOFFSETTO:+0200
TZNAME:CEST
DTSTART:20230326T010000
END:DAYLIGHT
BEGIN:STANDARD
TZOFFSETFROM:+0200
TZOFFSETTO:+0100
TZNAME:CET
DTSTART:20231029T010000
END:STANDARD
BEGIN:DAYLIGHT
TZOFFSETFROM:+0100
TZOFFSETTO:+0200
TZNAME:CEST
DTSTART:20240331T010000
END:DAYLIGHT
BEGIN:STANDARD
TZOFFSETFROM:+0200
TZOFFSETTO:+0100
TZNAME:CET
DTSTART:20241027T010000
END:STANDARD
BEGIN:DAYLIGHT
TZOFFSETFROM:+0100
TZOFFSETTO:+0200
TZNAME:CEST
DTSTART:20250330T010000
END:DAYLIGHT
BEGIN:STANDARD
TZOFFSETFROM:+0200
TZOFFSETTO:+0100
TZNAME:CET
DTSTART:20251026T010000
END:STANDARD
END:VTIMEZONE
BEGIN:VEVENT
DTSTART;TZID=Europe/Paris:20240605T110000
DTEND;TZID=Europe/Paris:20240605T120000
DTSTAMP:20260423T230716
CREATED:20240510T095415Z
LAST-MODIFIED:20240510T095415Z
UID:17977-1717585200-1717588800@eosc-austria.at
SUMMARY:FAIR-IMPACT’s virtual clinic for potential applicants to the 2nd open call for repository support programme
DESCRIPTION:FAIR-IMPACT launched our 2nd open call for Route 1 expert support (non-financial) on 2nd May 2024. Applications are invited to join the support programme targeted to Repositories & Data service Providers \nThe deadline for applications is June 14th\, 2024. \n\n\nFor those who are considering applying to the open call for support this workshop provides an informal opportunity for potential applicants to ask the FAIR-IMPACT team any questions they have about the support actions\, eligibility\, and the application process.
URL:https://eosc-austria.at/events/fair-impacts-virtual-clinic-for-potential-applicants-to-the-2nd-open-call-for-repository-support-programme/
LOCATION:Online
CATEGORIES:Online Events
ATTACH;FMTTYPE=image/png:https://eosc-austria.at/wp-content/uploads/2024/05/FI_webinar.png
END:VEVENT
END:VCALENDAR