BEGIN:VCALENDAR
VERSION:2.0
PRODID:-// - ECPv6.15.20//NONSGML v1.0//EN
CALSCALE:GREGORIAN
METHOD:PUBLISH
X-ORIGINAL-URL:https://eosc-austria.at
X-WR-CALDESC:Events for 
REFRESH-INTERVAL;VALUE=DURATION:PT1H
X-Robots-Tag:noindex
X-PUBLISHED-TTL:PT1H
BEGIN:VTIMEZONE
TZID:Europe/Paris
BEGIN:DAYLIGHT
TZOFFSETFROM:+0100
TZOFFSETTO:+0200
TZNAME:CEST
DTSTART:20230326T010000
END:DAYLIGHT
BEGIN:STANDARD
TZOFFSETFROM:+0200
TZOFFSETTO:+0100
TZNAME:CET
DTSTART:20231029T010000
END:STANDARD
BEGIN:DAYLIGHT
TZOFFSETFROM:+0100
TZOFFSETTO:+0200
TZNAME:CEST
DTSTART:20240331T010000
END:DAYLIGHT
BEGIN:STANDARD
TZOFFSETFROM:+0200
TZOFFSETTO:+0100
TZNAME:CET
DTSTART:20241027T010000
END:STANDARD
BEGIN:DAYLIGHT
TZOFFSETFROM:+0100
TZOFFSETTO:+0200
TZNAME:CEST
DTSTART:20250330T010000
END:DAYLIGHT
BEGIN:STANDARD
TZOFFSETFROM:+0200
TZOFFSETTO:+0100
TZNAME:CET
DTSTART:20251026T010000
END:STANDARD
END:VTIMEZONE
BEGIN:VEVENT
DTSTART;TZID=Europe/Paris:20240613T110000
DTEND;TZID=Europe/Paris:20240613T120000
DTSTAMP:20260423T230624
CREATED:20240521T103356Z
LAST-MODIFIED:20240521T103356Z
UID:18128-1718276400-1718280000@eosc-austria.at
SUMMARY:New Repositories for New Biodiversity Research
DESCRIPTION:Recent technology-driven advances in biodiversity research have created a need for more\, new types of FAIR repositories. In this meetup\, we discuss two of these. Firstly\, the broad and expanding application of AI-based methods in image/sound/text/sequence classification has created a need for repositories for exchanging pre-trained models and their training data. Secondly\, the advent of massively parallel DNA sequencing techniques applied to the environment has shown a large diversity of sequence variants\, whose incremental aggregation in a central repository would enable a more fine-grained assessment of the presence and abundance of distinct haplotypes in the natural environment and in medical settings. In this event\, we will introduce the current research practices and challenges and discuss how the community can proceed in light of these developments. \nThis virtual workshop will take place from 11:00-12:00 CEST on June 13 2024. The agenda will be added shortly.  \nRegistration for this workshop is free but mandatory. Reserve your place by filing out the registration form below.
URL:https://eosc-austria.at/events/new-repositories-for-new-biodiversity-research/
LOCATION:Online
CATEGORIES:Online Events
ATTACH;FMTTYPE=image/png:https://eosc-austria.at/wp-content/uploads/2024/05/FAIR-Implementation-Workshops-webpage-1.png
END:VEVENT
END:VCALENDAR