BEGIN:VCALENDAR
VERSION:2.0
PRODID:-// - ECPv6.15.20//NONSGML v1.0//EN
CALSCALE:GREGORIAN
METHOD:PUBLISH
X-ORIGINAL-URL:https://eosc-austria.at
X-WR-CALDESC:Events for 
REFRESH-INTERVAL;VALUE=DURATION:PT1H
X-Robots-Tag:noindex
X-PUBLISHED-TTL:PT1H
BEGIN:VTIMEZONE
TZID:Europe/Paris
BEGIN:DAYLIGHT
TZOFFSETFROM:+0100
TZOFFSETTO:+0200
TZNAME:CEST
DTSTART:20230326T010000
END:DAYLIGHT
BEGIN:STANDARD
TZOFFSETFROM:+0200
TZOFFSETTO:+0100
TZNAME:CET
DTSTART:20231029T010000
END:STANDARD
BEGIN:DAYLIGHT
TZOFFSETFROM:+0100
TZOFFSETTO:+0200
TZNAME:CEST
DTSTART:20240331T010000
END:DAYLIGHT
BEGIN:STANDARD
TZOFFSETFROM:+0200
TZOFFSETTO:+0100
TZNAME:CET
DTSTART:20241027T010000
END:STANDARD
BEGIN:DAYLIGHT
TZOFFSETFROM:+0100
TZOFFSETTO:+0200
TZNAME:CEST
DTSTART:20250330T010000
END:DAYLIGHT
BEGIN:STANDARD
TZOFFSETFROM:+0200
TZOFFSETTO:+0100
TZNAME:CET
DTSTART:20251026T010000
END:STANDARD
END:VTIMEZONE
BEGIN:VEVENT
DTSTART;TZID=Europe/Paris:20241004T130000
DTEND;TZID=Europe/Paris:20241004T150000
DTSTAMP:20260423T183057
CREATED:20240918T120416Z
LAST-MODIFIED:20240918T120509Z
UID:19122-1728046800-1728054000@eosc-austria.at
SUMMARY:FAIR Principles in national and institutional data management policies in Denmark
DESCRIPTION:The FAIR National Roadshow series is visiting Denmark on the 4th of October 2024!\nThe event will be virtually hosted by the Danish e-Infrastructure Consortium (DeiC)\, the University of Copenhagen and Copenhagen Business School\, in Denmark. \nThe aim of this event is to present the FAIR principles in Danish national and institutional data management policies\, as well as promote the outcomes and ongoing work of the FAIR-IMPACT project to the research community in Denmark. \nREGISTER NOW \n\n\nTarget audience:  RDM community at large\, data support staff\, researchers and policy makers at universities. \nLanguage: English \nDate: 4 October 2024\, 13:00 – 15:00 CEST \nLocal facilitator(s): ‘Danish e-Infrastructure Consortium (DeiC)\, University of Copenhagen and Copenhagen Business School\, in Denmark. \nAGENDA\nModerator: Sara Garavelli\, Strategic European Engagement & Coordination Development Manager at CSC – IT Center for Science and Board Member at EOSC Association \n\n\n\n\n\n\n\n\nTime (CEST)\nTitle\nPresenters\n\n\n13.00 – 13:10\nWelcome & context of the event in the framework of the FAIR-IMPACT project\nTBD\n\n\n13:10 – 13:15\nOutline of the agenda\, presentation of speakers\nSara Garavelli\, Development manager – IT Center for Science (CSC)\, and board member at EOSC Association\n\n\n13:15 – 13:25\nEOSC in Denmark\nGitte Julin Kudsk\, Director\, Danish e-Infrastructure Consortium (DeiC)\n\n\n13:25 – 13:40\nData management policies in the Danish national strategy for data management based on the FAIR principles\nJohn Renner Hansen\, Professor\, Niels Bohr Institute\, University of Copenhagen and Chairperson for the Danish national strategy for data management based on the FAIR principles\n\n\n13:40 – 14:00\nExamples of practical implementation of DM policy at The University of Copenhagen (success stories and difficulties)\nRichard Dennis\, Research Consultant / Data Manager and FAIR-IMPACT Champion. University of Copenhagen\, Novo Nordisk Foundation Center for Stem Cell Medicine – reNEW\n\n\n14:00 – 14:20\nExamples of practical implementation of DM policy at Copenhagen Business School  (success stories and difficulties\nMareike Buss\, Senior advisor\, research data management Copenhagen Business School\n\n\n14:20 – 14:30\nFAIRSharing and machine-readable data management policies\nLaurence Horton\, Research Data Specialist\, Digital Curation Center (DCC) and FAIR-IMPACT\n\n\n14:30 – 14:40\nTBD\nFAIRCore4EOSC\n\n\n14:40 – 14:55\nOpen Discussion\nSara Garavelli\, development manager – IT center for science at CSC\, and board member at EOSC Association\n\n\n14:55 – 15:00\nWrap-up and closure\nSara Pittonet\, Trust-IT & FAIR-IMPACT Outreach Manager
URL:https://eosc-austria.at/events/fair-principles-in-national-and-institutional-data-management-policies-in-denmark/
LOCATION:Online
CATEGORIES:Online Events
ATTACH;FMTTYPE=image/png:https://eosc-austria.at/wp-content/uploads/2024/09/National-Roadshow-Denmark.png
END:VEVENT
END:VCALENDAR