BEGIN:VCALENDAR
VERSION:2.0
PRODID:-// - ECPv6.15.20//NONSGML v1.0//EN
CALSCALE:GREGORIAN
METHOD:PUBLISH
X-ORIGINAL-URL:https://eosc-austria.at
X-WR-CALDESC:Events for 
REFRESH-INTERVAL;VALUE=DURATION:PT1H
X-Robots-Tag:noindex
X-PUBLISHED-TTL:PT1H
BEGIN:VTIMEZONE
TZID:Europe/Paris
BEGIN:DAYLIGHT
TZOFFSETFROM:+0100
TZOFFSETTO:+0200
TZNAME:CEST
DTSTART:20230326T010000
END:DAYLIGHT
BEGIN:STANDARD
TZOFFSETFROM:+0200
TZOFFSETTO:+0100
TZNAME:CET
DTSTART:20231029T010000
END:STANDARD
BEGIN:DAYLIGHT
TZOFFSETFROM:+0100
TZOFFSETTO:+0200
TZNAME:CEST
DTSTART:20240331T010000
END:DAYLIGHT
BEGIN:STANDARD
TZOFFSETFROM:+0200
TZOFFSETTO:+0100
TZNAME:CET
DTSTART:20241027T010000
END:STANDARD
BEGIN:DAYLIGHT
TZOFFSETFROM:+0100
TZOFFSETTO:+0200
TZNAME:CEST
DTSTART:20250330T010000
END:DAYLIGHT
BEGIN:STANDARD
TZOFFSETFROM:+0200
TZOFFSETTO:+0100
TZNAME:CET
DTSTART:20251026T010000
END:STANDARD
END:VTIMEZONE
BEGIN:VEVENT
DTSTART;TZID=Europe/Paris:20241106T130000
DTEND;TZID=Europe/Paris:20241106T141500
DTSTAMP:20260423T183025
CREATED:20241029T105458Z
LAST-MODIFIED:20241029T105458Z
UID:19398-1730898000-1730902500@eosc-austria.at
SUMMARY:Fair Open Access Funds - What libraries can do to promote Diamond Open Access
DESCRIPTION:The BMBF-funded project open-access.network invites you to an information event as part of the information series “Shaping the Open Access transformation sustainably. Diamond OA as an alternative”: \nFair Open Access Funds – What libraries can do to promote Diamond Open Access \nWednesday\, 6 November 2024 | 1pm – 2:15 pm (CET) | online | The event is held in English. \nAs both subscription and publication costs for scientific journals and monographs continue to rise\, there is much discussion about Diamond Open Access as an alternative funding option. But how can academic libraries support Diamond Open Access? One approach is to create seperate publication funds for Fair Open Acccess. In Fair Open Access\, the focus is primarily on supporting publishing infrastructures and academic initiatives in order to strenghten scholar-led publishing. The Fair Open Access Alliance (FOAA) has outlined five key principles that journals must adhere to in order to qualify as Fair Open Access. These include: 1) being led by the academic community\, 2) ensuring that authors retain the copyright to their work\, 3) providing immediate and unrestricted Open Access to all content\, 4) separating submission and publication from mandatory fees\, and 5) maintaining low\, transparent\, and proportionate costs for any necessary fees. To support Fair Open Access initiatives\, some university libraries allocate dedicated financial resources through Fair Open Access funds: \nDemmy Verbeke will introduce the KU Leuven Fund for Fair Open Access\, which is dedicated to promoting a cost-effective and sustainable implementation of Open Science. The fund supports the development of new publishing models\, as well as Open Science initiatives and infrastructures\, with the goal of steering away from expensive\, for-profit business models and empowering scholars to regain control of the publishing process. \nMichaela Voigt  will talk about the Technische Universität (TU) Berlin and its University Library which will launch a Fair Open Access Fund in 2024. to further expand the existing support for Open Access. The focus of Fair OA funding is on publication or infrastructure projects that strengthen sustainable and open publication structures\, promote diversity instead of monopolism and see cooperation as a driving force for innovation. \nAt the event\, we want to present these best practices and discuss the following topics: \n\nWhat considerations preceded the establishment of a Fair OA Fund at KU Leuven and TU Berlin and what criteria do they use as a guide?\nHow do Fair Open Access Funds work?\nWhat experience has been gained?\nHow can the approach be transferred to other institutions?\n\nIf you have any questions about the event\, please contact Karin Stork (karin.stork@uni-konstanz.de) or Martina Benz (martina.benz@uni-konstanz.de).
URL:https://eosc-austria.at/events/fair-open-access-funds-what-libraries-can-do-to-promote-diamond-open-access/
LOCATION:Online
CATEGORIES:Online Events
ATTACH;FMTTYPE=image/png:https://eosc-austria.at/wp-content/uploads/2024/10/Screenshot-2024-10-29-115303.png
END:VEVENT
END:VCALENDAR