BEGIN:VCALENDAR
VERSION:2.0
PRODID:-// - ECPv6.15.20//NONSGML v1.0//EN
CALSCALE:GREGORIAN
METHOD:PUBLISH
X-ORIGINAL-URL:https://eosc-austria.at
X-WR-CALDESC:Events for 
REFRESH-INTERVAL;VALUE=DURATION:PT1H
X-Robots-Tag:noindex
X-PUBLISHED-TTL:PT1H
BEGIN:VTIMEZONE
TZID:Europe/Paris
BEGIN:DAYLIGHT
TZOFFSETFROM:+0100
TZOFFSETTO:+0200
TZNAME:CEST
DTSTART:20240331T010000
END:DAYLIGHT
BEGIN:STANDARD
TZOFFSETFROM:+0200
TZOFFSETTO:+0100
TZNAME:CET
DTSTART:20241027T010000
END:STANDARD
BEGIN:DAYLIGHT
TZOFFSETFROM:+0100
TZOFFSETTO:+0200
TZNAME:CEST
DTSTART:20250330T010000
END:DAYLIGHT
BEGIN:STANDARD
TZOFFSETFROM:+0200
TZOFFSETTO:+0100
TZNAME:CET
DTSTART:20251026T010000
END:STANDARD
BEGIN:DAYLIGHT
TZOFFSETFROM:+0100
TZOFFSETTO:+0200
TZNAME:CEST
DTSTART:20260329T010000
END:DAYLIGHT
BEGIN:STANDARD
TZOFFSETFROM:+0200
TZOFFSETTO:+0100
TZNAME:CET
DTSTART:20261025T010000
END:STANDARD
END:VTIMEZONE
BEGIN:VEVENT
DTSTART;TZID=Europe/Paris:20250115T090000
DTEND;TZID=Europe/Paris:20250115T230000
DTSTAMP:20260423T151012
CREATED:20250109T110528Z
LAST-MODIFIED:20250109T110528Z
UID:19712-1736931600-1736982000@eosc-austria.at
SUMMARY:Exploring Costs and Incentives for Data Management: Perspectives\, Tools\, and the Role of Funders
DESCRIPTION:The “Exploring Costs and Incentives for Data Management: Perspectives\, Tools\, and the Role of Funders” will take place on 15th January 2025 from 09:00-11:00 CET. Registration for the workshop is free but mandatory. \nJoin us for an insightful workshop on the costs and incentives of data management. This workshop unites a diverse panel of stakeholders to examine data management practices through multiple lenses. \nThe workshop will cover perspectives from researchers on time spent on data management\, costing tools\, policy\, and funders’ experiences in incentivising data management through policy and support mechanisms.
URL:https://eosc-austria.at/events/exploring-costs-and-incentives-for-data-management-perspectives-tools-and-the-role-of-funders/
LOCATION:Online
CATEGORIES:Online Events
ATTACH;FMTTYPE=image/jpeg:https://eosc-austria.at/wp-content/uploads/2025/01/FAIR-Implementation-Workshop.jpg
END:VEVENT
BEGIN:VEVENT
DTSTART;TZID=Europe/Paris:20250115T110000
DTEND;TZID=Europe/Paris:20250115T123000
DTSTAMP:20260423T151012
CREATED:20241023T132900Z
LAST-MODIFIED:20250110T110812Z
UID:19385-1736938800-1736944200@eosc-austria.at
SUMMARY:LAUNCH EVENT - 2nd OSCARS Open Call for Open Science projects
DESCRIPTION:We are pleased to invite you to the launch event of the OSCARS 2nd Open Call for Open Science projects and services\, to be held online\, on Friday\, 15 November 2024\, from 11:00 to 12:30 CET. \nThis is the last of the two calls (total worth ~16 million EUR) foreseen in the frame of the OSCARS project to support research communities from any scientific domain to take up open science and foster the involvement of scientists in EOSC. \nThe 1st OSCARS Open Call concluded in July resulting in a total of 58 projects being selected for funding (read more). Some of them will be presented during the event. \nResearchers from all scientific disciplines are welcome to apply to the 2nd OSCARS Open Call before January 15th\, 2025\, with proposals for the development of Open Science projects or services\, that together will drive the uptake of FAIR-data-intensive research throughout the European Research Area (ERA). \nProjects are funded with a lump sum between 100\,000 EUR and 250\,000 EUR\, and can be proposed in the fields of any of the Science Clusters and beyond\, by any researcher or group of researchers. \nBy the end of OSCARS\, it is expected that a series of valuable scientific results and services will be available\, leading to an increased uptake of Open Science by researchers and to promote cross-border and cross-domain cooperation in the long run. \nDuring the event\, participants will learn more about the scope and content of the call\, and will be welcome to raise any question about the call and the application process.
URL:https://eosc-austria.at/events/launch-event-2nd-oscars-open-call-for-open-science-projects/
LOCATION:Online
CATEGORIES:Online Events
ATTACH;FMTTYPE=image/jpeg:https://eosc-austria.at/wp-content/uploads/2024/10/OSCARS-2ndOpenCall-LAUNCH-BannerSocial.jpg
END:VEVENT
END:VCALENDAR