BEGIN:VCALENDAR
VERSION:2.0
PRODID:-// - ECPv6.15.20//NONSGML v1.0//EN
CALSCALE:GREGORIAN
METHOD:PUBLISH
X-ORIGINAL-URL:https://eosc-austria.at
X-WR-CALDESC:Events for 
REFRESH-INTERVAL;VALUE=DURATION:PT1H
X-Robots-Tag:noindex
X-PUBLISHED-TTL:PT1H
BEGIN:VTIMEZONE
TZID:Europe/Paris
BEGIN:DAYLIGHT
TZOFFSETFROM:+0100
TZOFFSETTO:+0200
TZNAME:CEST
DTSTART:20240331T010000
END:DAYLIGHT
BEGIN:STANDARD
TZOFFSETFROM:+0200
TZOFFSETTO:+0100
TZNAME:CET
DTSTART:20241027T010000
END:STANDARD
BEGIN:DAYLIGHT
TZOFFSETFROM:+0100
TZOFFSETTO:+0200
TZNAME:CEST
DTSTART:20250330T010000
END:DAYLIGHT
BEGIN:STANDARD
TZOFFSETFROM:+0200
TZOFFSETTO:+0100
TZNAME:CET
DTSTART:20251026T010000
END:STANDARD
BEGIN:DAYLIGHT
TZOFFSETFROM:+0100
TZOFFSETTO:+0200
TZNAME:CEST
DTSTART:20260329T010000
END:DAYLIGHT
BEGIN:STANDARD
TZOFFSETFROM:+0200
TZOFFSETTO:+0100
TZNAME:CET
DTSTART:20261025T010000
END:STANDARD
END:VTIMEZONE
BEGIN:VEVENT
DTSTART;TZID=Europe/Paris:20250121T100000
DTEND;TZID=Europe/Paris:20250121T110000
DTSTAMP:20260423T151337
CREATED:20250114T092824Z
LAST-MODIFIED:20250114T092824Z
UID:19740-1737453600-1737457200@eosc-austria.at
SUMMARY:Leitfaden zur digitalen Datensparsamkeit – Vorstellung und Diskussion
DESCRIPTION:Die stetig wachsende Bedeutung des Forschungsdatenmanagements sowie die Technologisierung fast aller Bereiche der Geistes- und besonders der Naturwissenschaften führt zu immer größeren Mengen an Forschungsdaten. Auch wenn dies u.a. im Sinne der Nachnutzbarkeit vorhandener Forschungsergebnisse eine sehr begrüßenswerte Entwicklung darstellt\, so bringt sie dennoch auch technische und organisatorische Herausforderungen für Forschungsdatenmanager*innen mit sich. Hierzu zählt ein Mehr an erforderlichen Ressourcen in allen Phasen des Forschungsdatenlebenszyklus\, sowohl in technischer\, wie in personeller Hinsicht; auch können juristische und ethische Herausforderungen entstehen oder schlicht und einfach der Überblick verlorengehen.Vor diesem Hintergrund hat der Arbeitskreis Forschungsdatenmanagement in Baden-Württemberg (AK FDM) in Zusammenarbeit mit der Landesinitiative für Forschungsdaten bwFDM einen Leitfaden veröffentlicht\, der praktische Ansätze liefert\, wie durch digitale Datensparsamkeit notwendige technische und organisatorische Ressourcen reduziert werden können. In dieser Veranstaltung werden Dr. Sophie Habinger und Maximilian Heber (Landesinitiative bwFDM) zunächst die Hintergründe und Kernelemente des Leitfadens vorstellen. Anschließend freuen wir uns auf Ihre Fragen und laden zu einer Diskussion rund um das Thema Digitale Datensparsamkeit ein. Der Leitfaden ist in folgenden Fassungen erschienen: \n\nLeitfaden zur digitalen Datensparsamkeit. (2024). O-Bib. Das offene Bibliotheksjournal Herausgeber VDB\, 11(2)\, 1-8. https://doi.org/10.5282/o-bib/6036\nAusführlichere Fassung mit Praxisbeispielen(Zenodo)\nEnglische Übersetzung der ausführlicheren Fassung(Zenodo)\n\nZeit und Ort:\n21. Jänner 2025\, 10 – 11 Uhr \nZielgruppe:\nForschende in den Sozial- und Wirtschaftswissenschaften\, Personal aus der Forschungsunterstützung \nSprache:\nDeutsch \nVortragende:\nSophie Habinger und Maximilian Heber\, Uni Konstanz \nRegistrierung:\nUm an dem Webinar teilzunehmen\, registrieren Sie sich hier. \nMaterialien:\nDie Materialien zu diesem Webinar werden nachher hier zur Verfügung gestellt.
URL:https://eosc-austria.at/events/leitfaden-zur-digitalen-datensparsamkeit-vorstellung-und-diskussion/
LOCATION:Online
CATEGORIES:Online Events
ATTACH;FMTTYPE=image/png:https://eosc-austria.at/wp-content/uploads/2023/07/sharedRDM-logo-orangeBG-e1689162072641.png
END:VEVENT
END:VCALENDAR