BEGIN:VCALENDAR
VERSION:2.0
PRODID:-// - ECPv6.15.20//NONSGML v1.0//EN
CALSCALE:GREGORIAN
METHOD:PUBLISH
X-ORIGINAL-URL:https://eosc-austria.at
X-WR-CALDESC:Events for 
REFRESH-INTERVAL;VALUE=DURATION:PT1H
X-Robots-Tag:noindex
X-PUBLISHED-TTL:PT1H
BEGIN:VTIMEZONE
TZID:Europe/Paris
BEGIN:DAYLIGHT
TZOFFSETFROM:+0100
TZOFFSETTO:+0200
TZNAME:CEST
DTSTART:20240331T010000
END:DAYLIGHT
BEGIN:STANDARD
TZOFFSETFROM:+0200
TZOFFSETTO:+0100
TZNAME:CET
DTSTART:20241027T010000
END:STANDARD
BEGIN:DAYLIGHT
TZOFFSETFROM:+0100
TZOFFSETTO:+0200
TZNAME:CEST
DTSTART:20250330T010000
END:DAYLIGHT
BEGIN:STANDARD
TZOFFSETFROM:+0200
TZOFFSETTO:+0100
TZNAME:CET
DTSTART:20251026T010000
END:STANDARD
BEGIN:DAYLIGHT
TZOFFSETFROM:+0100
TZOFFSETTO:+0200
TZNAME:CEST
DTSTART:20260329T010000
END:DAYLIGHT
BEGIN:STANDARD
TZOFFSETFROM:+0200
TZOFFSETTO:+0100
TZNAME:CET
DTSTART:20261025T010000
END:STANDARD
END:VTIMEZONE
BEGIN:VEVENT
DTSTART;TZID=Europe/Paris:20250129T160000
DTEND;TZID=Europe/Paris:20250129T170000
DTSTAMP:20260423T135451
CREATED:20241211T140700Z
LAST-MODIFIED:20241211T140700Z
UID:19542-1738166400-1738170000@eosc-austria.at
SUMMARY:BERD Academy: Open Education for Research with (unstructured) Business\, Economics and Related Data
DESCRIPTION:Big Data took the world by storm\, Artificial Intelligence has become a hot topic across research disciplines. Working with these data can be a challenge. Especially for researchers in Business\, Economics and Social Sciences\, who graduated just a few years ago when most study programs covered mainly or exclusively ‘traditional’ data collection methods such as surveys with structured\, tabular data. To unlock the research potential of new data sources by applying fitting methods\, education is needed. The BERD Academy is the training outlet of the consortium for Business\, Economics\, and Related Data in the National Research Data Infrastructure (BERD@NFDI). In this talk\, we will present how a wide range of offers in flexible formats fulfills the needs of researchers and research data providers. We want to discuss\, how educational content can unlock research potential and how open education can foster open science.
URL:https://eosc-austria.at/events/berd-academy-open-education-for-research-with-unstructured-business-economics-and-related-data/
LOCATION:Online
CATEGORIES:Online Events
ATTACH;FMTTYPE=image/png:https://eosc-austria.at/wp-content/uploads/2024/12/open-economics-guide-logo-1.png
END:VEVENT
END:VCALENDAR