BEGIN:VCALENDAR
VERSION:2.0
PRODID:-// - ECPv6.15.20//NONSGML v1.0//EN
CALSCALE:GREGORIAN
METHOD:PUBLISH
X-ORIGINAL-URL:https://eosc-austria.at
X-WR-CALDESC:Events for 
REFRESH-INTERVAL;VALUE=DURATION:PT1H
X-Robots-Tag:noindex
X-PUBLISHED-TTL:PT1H
BEGIN:VTIMEZONE
TZID:Europe/Paris
BEGIN:DAYLIGHT
TZOFFSETFROM:+0100
TZOFFSETTO:+0200
TZNAME:CEST
DTSTART:20240331T010000
END:DAYLIGHT
BEGIN:STANDARD
TZOFFSETFROM:+0200
TZOFFSETTO:+0100
TZNAME:CET
DTSTART:20241027T010000
END:STANDARD
BEGIN:DAYLIGHT
TZOFFSETFROM:+0100
TZOFFSETTO:+0200
TZNAME:CEST
DTSTART:20250330T010000
END:DAYLIGHT
BEGIN:STANDARD
TZOFFSETFROM:+0200
TZOFFSETTO:+0100
TZNAME:CET
DTSTART:20251026T010000
END:STANDARD
BEGIN:DAYLIGHT
TZOFFSETFROM:+0100
TZOFFSETTO:+0200
TZNAME:CEST
DTSTART:20260329T010000
END:DAYLIGHT
BEGIN:STANDARD
TZOFFSETFROM:+0200
TZOFFSETTO:+0100
TZNAME:CET
DTSTART:20261025T010000
END:STANDARD
END:VTIMEZONE
BEGIN:VEVENT
DTSTART;TZID=Europe/Paris:20250306T100000
DTEND;TZID=Europe/Paris:20250306T110000
DTSTAMP:20260423T123933
CREATED:20250214T124228Z
LAST-MODIFIED:20250214T124228Z
UID:20169-1741255200-1741258800@eosc-austria.at
SUMMARY:Coffee Chat "Von Datenflut zur Story – Kulturerbe digital vermitteln"
DESCRIPTION:Wie können große Mengen an Kulturdaten so aufbereitet werden\, dass sie verständlich\, zugänglich und nachhaltig nutzbar sind? Welche digitalen Ansätze eignen sich\, um kulturelles Erbe für unterschiedliche Zielgruppen erlebbar zu machen und wie hilft die Zusammenarbeit mit europäischen Partner:innen hierbei? \nIm Coffee Chat “Von Datenflut zur Story – Kulturerbe digital vermitteln” am 6. März spricht Host Kasra Seirafi von Fluxguide über digitale Vermittlungsstrategien und gibt Einblicke in das Horizon Europe Cluster 2-Projekt MEMORISE. Das Projekt erforscht\, wie Erinnerungen an die NS-Verfolgung – darunter über 80.000 digitalisierte Quellen – mithilfe interaktiver Technologien bewahrt und in Bildungs- und Gedenkkontexten genutzt werden können. \nDas Thema ist besonders relevant für alle\, die sich mit Horizon Europe Cluster 2 oder dem Digital Europe Programme beschäftigen: Digitale Technologien spielen eine Schlüsselrolle in der Bewahrung und Vermittlung von Kulturerbe und gesellschaftlichem Wandel. \nSei dabei und diskutiere mit uns!
URL:https://eosc-austria.at/events/coffee-chat-von-datenflut-zur-story-kulturerbe-digital-vermitteln/
LOCATION:Online
CATEGORIES:Online Events
ATTACH;FMTTYPE=image/png:https://eosc-austria.at/wp-content/uploads/2025/01/FFG_Logo_DE_RGB_1500px.png
END:VEVENT
END:VCALENDAR