BEGIN:VCALENDAR
VERSION:2.0
PRODID:-// - ECPv6.15.20//NONSGML v1.0//EN
CALSCALE:GREGORIAN
METHOD:PUBLISH
X-ORIGINAL-URL:https://eosc-austria.at
X-WR-CALDESC:Events for 
REFRESH-INTERVAL;VALUE=DURATION:PT1H
X-Robots-Tag:noindex
X-PUBLISHED-TTL:PT1H
BEGIN:VTIMEZONE
TZID:Europe/Paris
BEGIN:DAYLIGHT
TZOFFSETFROM:+0100
TZOFFSETTO:+0200
TZNAME:CEST
DTSTART:20240331T010000
END:DAYLIGHT
BEGIN:STANDARD
TZOFFSETFROM:+0200
TZOFFSETTO:+0100
TZNAME:CET
DTSTART:20241027T010000
END:STANDARD
BEGIN:DAYLIGHT
TZOFFSETFROM:+0100
TZOFFSETTO:+0200
TZNAME:CEST
DTSTART:20250330T010000
END:DAYLIGHT
BEGIN:STANDARD
TZOFFSETFROM:+0200
TZOFFSETTO:+0100
TZNAME:CET
DTSTART:20251026T010000
END:STANDARD
BEGIN:DAYLIGHT
TZOFFSETFROM:+0100
TZOFFSETTO:+0200
TZNAME:CEST
DTSTART:20260329T010000
END:DAYLIGHT
BEGIN:STANDARD
TZOFFSETFROM:+0200
TZOFFSETTO:+0100
TZNAME:CET
DTSTART:20261025T010000
END:STANDARD
END:VTIMEZONE
BEGIN:VEVENT
DTSTART;TZID=Europe/Paris:20250307T100000
DTEND;TZID=Europe/Paris:20250307T120000
DTSTAMP:20260423T123803
CREATED:20250305T083130Z
LAST-MODIFIED:20250305T083130Z
UID:20258-1741341600-1741348800@eosc-austria.at
SUMMARY:Workshops on AI development in the EOSC: overview of AI\, Large Language Models\, and the AI4EOSC platform
DESCRIPTION:Join us for  the first webinar of the second series of AI4EOSC online workshops\, marking the fourth online webinar of the AI4EOSC project and the first of three scheduled for 2025. \nThis session will provide an overview of Artificial Intelligence (AI)\, Large Language Models (LLMs)\, and the AI4EOSC platform\, highlighting the tools and features available as well as a general introduction on how to take advantage of them. \nThe webinar will also feature two technical demonstrations on the platform\, including the use of YOLOv8 for object detection (segmentation/classification) and the use of LLM4EOSC for advanced natural language processing. \nWhen and where? \nDate: Friday\, March 7\, 2025. \nTime: 10:00 – 12:00 CET. \nFormat: Online (live-streamed). \nThe session will consist of 4 talks of 30 minutes each\, including a Q&A part. \nWe invite you all to register in https://indico.ifca.es/event/3390/ and join us online. Registered participants will receive the link to the live stream closer to the date of the webinar. \nWe also invite you to disseminate this information to those who you think may be interested. More information can be found in https://indico.ifca.es/event/3390/
URL:https://eosc-austria.at/events/workshops-on-ai-development-in-the-eosc-overview-of-ai-large-language-models-and-the-ai4eosc-platform/
LOCATION:Online
CATEGORIES:Online Events
ATTACH;FMTTYPE=image/webp:https://eosc-austria.at/wp-content/uploads/2025/03/DALL·E-2025-03-05-09.31.09-A-colorful-pencil-drawing-buntstiftzeichnung-of-a-futuristic-AI-powered-research-environment.-The-image-features-a-scientist-working-at-a-high-tech-.webp
END:VEVENT
END:VCALENDAR