BEGIN:VCALENDAR
VERSION:2.0
PRODID:-// - ECPv6.15.20//NONSGML v1.0//EN
CALSCALE:GREGORIAN
METHOD:PUBLISH
X-ORIGINAL-URL:https://eosc-austria.at
X-WR-CALDESC:Events for 
REFRESH-INTERVAL;VALUE=DURATION:PT1H
X-Robots-Tag:noindex
X-PUBLISHED-TTL:PT1H
BEGIN:VTIMEZONE
TZID:Europe/Paris
BEGIN:DAYLIGHT
TZOFFSETFROM:+0100
TZOFFSETTO:+0200
TZNAME:CEST
DTSTART:20240331T010000
END:DAYLIGHT
BEGIN:STANDARD
TZOFFSETFROM:+0200
TZOFFSETTO:+0100
TZNAME:CET
DTSTART:20241027T010000
END:STANDARD
BEGIN:DAYLIGHT
TZOFFSETFROM:+0100
TZOFFSETTO:+0200
TZNAME:CEST
DTSTART:20250330T010000
END:DAYLIGHT
BEGIN:STANDARD
TZOFFSETFROM:+0200
TZOFFSETTO:+0100
TZNAME:CET
DTSTART:20251026T010000
END:STANDARD
BEGIN:DAYLIGHT
TZOFFSETFROM:+0100
TZOFFSETTO:+0200
TZNAME:CEST
DTSTART:20260329T010000
END:DAYLIGHT
BEGIN:STANDARD
TZOFFSETFROM:+0200
TZOFFSETTO:+0100
TZNAME:CET
DTSTART:20261025T010000
END:STANDARD
END:VTIMEZONE
BEGIN:VEVENT
DTSTART;TZID=Europe/Paris:20250326T160000
DTEND;TZID=Europe/Paris:20250326T173000
DTSTAMP:20260425T141711
CREATED:20250318T122127Z
LAST-MODIFIED:20250318T122127Z
UID:20288-1743004800-1743010200@eosc-austria.at
SUMMARY:EOSC EU Node Ask Me Anything
DESCRIPTION:Join our first Ask Me Anything (AMA) session: Unlock the full potential of the EOSC EU Node for your research. \nSpeakers & Moderators: Peter Szegedi\, Spiros Athanasiou\, LOT2/3 Representatives\, Maja Dolinar\, Egidio Pasquinetti \nWho is it for? \nResearchers\, data scientists\, and computational experts across the EU and associated countries working in Open Science\, data-intensive research\, and collaborative projects \nWhy Join? \nOpen Science thrives on collaboration\, discovery\, and computation. But where can researchers access all three in one place? \nThe EOSC EU Node is your gateway to: \n\nCollaborate with peers across institutions\nAnalyse data using Jupyter notebooks\, toolboxes\, and Virtual Machines\nShare and reuse data securely\, enhancing research reproducibility\nDiscover new research tools\, datasets\, and services\n\nThis interactive Ask Me Anything session is your chance to explore how the EOSC EU Node can transform the way you conduct research. Bring your questions and get expert insights! \nHow Will the Session Work? \n\nInteractive Q&A – Ask your questions about the EOSC EU Node’s services and capabilities\nLive engagement – Submit and upvote questions using Zoom’s Q&A feature\nBreakout rooms – Dive deeper into specific features or services\nFocused discussions – This session covers research collaboration\, data discovery\, and computing tools (onboarding and federation topics will be addressed in a future event).
URL:https://eosc-austria.at/events/eosc-eu-node-ask-me-anything/
LOCATION:Online
CATEGORIES:Online Events
ATTACH;FMTTYPE=image/png:https://eosc-austria.at/wp-content/uploads/2025/03/EOSC-EU-Node-rectangular-16001067.png
END:VEVENT
END:VCALENDAR