BEGIN:VCALENDAR
VERSION:2.0
PRODID:-// - ECPv6.15.20//NONSGML v1.0//EN
CALSCALE:GREGORIAN
METHOD:PUBLISH
X-ORIGINAL-URL:https://eosc-austria.at
X-WR-CALDESC:Events for 
REFRESH-INTERVAL;VALUE=DURATION:PT1H
X-Robots-Tag:noindex
X-PUBLISHED-TTL:PT1H
BEGIN:VTIMEZONE
TZID:Europe/Paris
BEGIN:DAYLIGHT
TZOFFSETFROM:+0100
TZOFFSETTO:+0200
TZNAME:CEST
DTSTART:20250330T010000
END:DAYLIGHT
BEGIN:STANDARD
TZOFFSETFROM:+0200
TZOFFSETTO:+0100
TZNAME:CET
DTSTART:20251026T010000
END:STANDARD
BEGIN:DAYLIGHT
TZOFFSETFROM:+0100
TZOFFSETTO:+0200
TZNAME:CEST
DTSTART:20260329T010000
END:DAYLIGHT
BEGIN:STANDARD
TZOFFSETFROM:+0200
TZOFFSETTO:+0100
TZNAME:CET
DTSTART:20261025T010000
END:STANDARD
BEGIN:DAYLIGHT
TZOFFSETFROM:+0100
TZOFFSETTO:+0200
TZNAME:CEST
DTSTART:20270328T010000
END:DAYLIGHT
BEGIN:STANDARD
TZOFFSETFROM:+0200
TZOFFSETTO:+0100
TZNAME:CET
DTSTART:20271031T010000
END:STANDARD
END:VTIMEZONE
BEGIN:VEVENT
DTSTART;TZID=Europe/Paris:20260212T110000
DTEND;TZID=Europe/Paris:20260212T123000
DTSTAMP:20260423T102924
CREATED:20260116T103516Z
LAST-MODIFIED:20260116T103516Z
UID:21471-1770894000-1770899400@eosc-austria.at
SUMMARY:EOSC EU Node Ask Me Anything for Contributors
DESCRIPTION:Join our Ask Me Anything (AMA) session for Contributors and explore how to onboard\, integrate\, and build with the EOSC EU Node \nWhen: Thursday 12 February 2026\, 11.00-12.30 CET \nSpeakers & Moderators: Peter Szegedi\, Policy Officer at the European Commission DG CNECT\, Spiros Athanasiou\, EOSC EU Node Contractors’ representative\, Maja Dolinar \nWho is it for? \nService providers\, research infrastructures\, candidate nodes\, technical contributors\, and developers interested in integrating their data sources\, services\, or tools into the EOSC EU Node. Ideal for anyone working on interoperability\, open-source tooling\, or technical onboarding. \nWhat’s on the agenda? \nThis AMA session focuses on the contributor’s perspective and will cover: \n\nLive demonstration of the testing environment with the enrolled Candidate Nodes and their onboarded services\nInsights into the process of onboarding services from Candidate notes; how they were achieved\, lessons learned\, and what contributors can expect\nOpen-source components of the EOSC EU Node; what is available\, how to access it\, and how it can be reused\, deployed\, or customised\n\nThis interactive session is your opportunity to understand how to bring your services into the EOSC ecosystem and how to build on top of the software we develop. \nHow will the session work? \n\nInteractive Q&A – Ask your questions about integration\, and technical requirements\nLive engagement – Submit and upvote questions using Zoom’s Q&A feature\nFocused discussions – From onboarding services to open-source components and interoperability scenarios\n\nRegister now and join us for a hands-on discussion that will help you take the next step as a contributor to the EOSC EU Node. We look forward to seeing you there!
URL:https://eosc-austria.at/events/eosc-eu-node-ask-me-anything-for-contributors/
LOCATION:Online
CATEGORIES:Online Events
ATTACH;FMTTYPE=image/png:https://eosc-austria.at/wp-content/uploads/2026/01/2026_02_EOSC-EU-Node-AMA-for-Contributors-1-2048x1365-1.png
END:VEVENT
END:VCALENDAR