BEGIN:VCALENDAR
VERSION:2.0
PRODID:-// - ECPv6.15.20//NONSGML v1.0//EN
CALSCALE:GREGORIAN
METHOD:PUBLISH
X-ORIGINAL-URL:https://eosc-austria.at
X-WR-CALDESC:Events for 
REFRESH-INTERVAL;VALUE=DURATION:PT1H
X-Robots-Tag:noindex
X-PUBLISHED-TTL:PT1H
BEGIN:VTIMEZONE
TZID:Europe/Paris
BEGIN:DAYLIGHT
TZOFFSETFROM:+0100
TZOFFSETTO:+0200
TZNAME:CEST
DTSTART:20250330T010000
END:DAYLIGHT
BEGIN:STANDARD
TZOFFSETFROM:+0200
TZOFFSETTO:+0100
TZNAME:CET
DTSTART:20251026T010000
END:STANDARD
BEGIN:DAYLIGHT
TZOFFSETFROM:+0100
TZOFFSETTO:+0200
TZNAME:CEST
DTSTART:20260329T010000
END:DAYLIGHT
BEGIN:STANDARD
TZOFFSETFROM:+0200
TZOFFSETTO:+0100
TZNAME:CET
DTSTART:20261025T010000
END:STANDARD
BEGIN:DAYLIGHT
TZOFFSETFROM:+0100
TZOFFSETTO:+0200
TZNAME:CEST
DTSTART:20270328T010000
END:DAYLIGHT
BEGIN:STANDARD
TZOFFSETFROM:+0200
TZOFFSETTO:+0100
TZNAME:CET
DTSTART:20271031T010000
END:STANDARD
END:VTIMEZONE
BEGIN:VEVENT
DTSTART;TZID=Europe/Paris:20260312T140000
DTEND;TZID=Europe/Paris:20260312T160000
DTSTAMP:20260423T113800
CREATED:20260116T101914Z
LAST-MODIFIED:20260116T101914Z
UID:21454-1773324000-1773331200@eosc-austria.at
SUMMARY:Wie sollte eine faire Finanzierung von Open Access aussehen?
DESCRIPTION:Wissenschaftliches Publizieren im Open Access (OA) wird heute von den kommerziellen Zielen einer sehr kleinen Anzahl von umsatzorientierten\, global agierenden Medienkonzernen dominiert (Gatti et al. 2025\, 14). Im Mai 2023 erklärte der Rat der Europäischen Kommission\, dass das aktuelle System des wissenschaftlichen Publizierens für öffentliche Forschungsförderer zunehmend unbezahlbar wird. Die steigenden Kosten haben global die Forderung nach einem Wechsel zu nicht gewinnorientierten Publikationsmodellen gestärkt\, siehe UNESCO Diamond Open Access Alliance\, 2024. \nImmer stärker etablieren sich Forderungen\, Diamond Open Access (DOA) Publikationsmodelle im Bereich des wissenschaftlichen Publizierens zu finanzieren\, um das aktuelle System zu transformieren und die Abhängigkeit der Wissenschaft vom kommerziellen Verlagswesen zu verringern. Die ab 2025 von der DFG geförderte Servicestelle Diamond Open Access (SeDOA) unterstützt diesen Ansatz. Zudem betont die Nationale Akademie der Wissenschaften Leopoldina die Skalierbarkeit von nicht gewinnorientierten OA-Publikationsmodellen als entscheidender Faktor für eine erfolgreiche Transformation\, da Wissenschaftseinrichtungen mit wenigen Medienkonzernen auf dem Publikationsmarkt konkurrieren (Nationale Akademie der Wissenschaften Leopoldina 2025\, 34). Entsprechende Finanzierungsstrukturen können die Implementierung offener Infrastrukturen und damit die gesamte Open-Research-Transformation positiv beeinflussen. \nFür den Forschungsraum Berlin-Brandenburg ist das faire und nachhaltige Finanzieren von  Open Access ein drängendes Thema (Neufend et al. 2024)\, das aufgrund der Unsicherheiten in der Finanzierung von Wissenschafts- und Kulturerbe-Einrichtungen alle Einrichtungstypen unterschiedlich betrifft. In dieser Veranstaltung möchten wir mit Akteur*innen ins Gespräch kommen\, die bereits eine nachhaltige\, faire und kollektive Finanzierung von Open Access unterstützen und ermöglichen. \nAuf dem virtuellen Podium möchten wir entlang folgender Fragen diskutieren: \n\nIst das nicht gewinnorientierte Publizieren kostengünstiger als kommerzielle APC- und BPC-Modelle?\nWelches Verständnis von Fairness ist maßgeblich für faires OA?\nWas ist der Wert und was sind die Kosten des nicht gewinnorientierten Publizierens und wie können entsprechende Ressourcen bereitgestellt werden?\nWie können einzelne Akteure im Forschungsökosystem nicht gewinnorientiertes Publizieren unterstützen?\nWas sind notwendige Finanzierungsstrukturen\, die nicht gewinnorientiertes Publizieren nach fairen Prinzipien ermöglichen?\nWas lässt sich aus einer kritischen Reflektion bisheriger großangelegter Transformationsverträge und den daraus entstandenen Kriterien lernen?\nWas sind die Alternativen zu solchen großangelegten\, kommerziellen Ansätzen im wissenschaftlichen Publizieren?
URL:https://eosc-austria.at/events/wie-sollte-eine-faire-finanzierung-von-open-access-aussehen/
CATEGORIES:Online Events
ATTACH;FMTTYPE=image/png:https://eosc-austria.at/wp-content/uploads/2026/01/Screenshot-2026-01-16-111858.png
END:VEVENT
END:VCALENDAR