BEGIN:VCALENDAR
VERSION:2.0
PRODID:-// - ECPv6.15.20//NONSGML v1.0//EN
CALSCALE:GREGORIAN
METHOD:PUBLISH
X-ORIGINAL-URL:https://eosc-austria.at
X-WR-CALDESC:Events for 
REFRESH-INTERVAL;VALUE=DURATION:PT1H
X-Robots-Tag:noindex
X-PUBLISHED-TTL:PT1H
BEGIN:VTIMEZONE
TZID:Europe/Paris
BEGIN:DAYLIGHT
TZOFFSETFROM:+0100
TZOFFSETTO:+0200
TZNAME:CEST
DTSTART:20250330T010000
END:DAYLIGHT
BEGIN:STANDARD
TZOFFSETFROM:+0200
TZOFFSETTO:+0100
TZNAME:CET
DTSTART:20251026T010000
END:STANDARD
BEGIN:DAYLIGHT
TZOFFSETFROM:+0100
TZOFFSETTO:+0200
TZNAME:CEST
DTSTART:20260329T010000
END:DAYLIGHT
BEGIN:STANDARD
TZOFFSETFROM:+0200
TZOFFSETTO:+0100
TZNAME:CET
DTSTART:20261025T010000
END:STANDARD
BEGIN:DAYLIGHT
TZOFFSETFROM:+0100
TZOFFSETTO:+0200
TZNAME:CEST
DTSTART:20270328T010000
END:DAYLIGHT
BEGIN:STANDARD
TZOFFSETFROM:+0200
TZOFFSETTO:+0100
TZNAME:CET
DTSTART:20271031T010000
END:STANDARD
END:VTIMEZONE
BEGIN:VEVENT
DTSTART;VALUE=DATE:20260316
DTEND;VALUE=DATE:20260321
DTSTAMP:20260423T113747
CREATED:20260116T102953Z
LAST-MODIFIED:20260116T102953Z
UID:21468-1773619200-1774051199@eosc-austria.at
SUMMARY:RDA 26th Plenary Meeting
DESCRIPTION:The RDA has been working since 2013 to create solutions to allow researchers to openly share and re-use data across technologies\, disciplines\, and countries. The RDA 26th Plenary Meeting will take place fully virtually under the theme ‘Data Continuity for Research Resilience’\, from 16-20 March 2026. \n\n\nData continuity is essential for research resilience. As the research and scientific landscape faces institutional changes\, technological transitions\, and global disruptions\, VP26 brings together the RDA community to address critical challenges in maintaining access to research data. Through collaborative sessions\, RDA groups and individual members will explore strategies for building robust data infrastructures\, preserving research outputs\, and ensuring data remains accessible regardless of the challenges. \n\n\nJoin us as the global RDA community comes together to explore data continuity strategies that strengthen research resilience in times of change\, crisis\, and transformation. \n\n\nFor who?: \n\n\n\nData scientists\nData professionals\nResearchers\nIndustry leaders\nEntrepreneurs\nPolicy makers\nData stewards\n\n\n\n\n\n\n\n\n\n\nRegistration Open\n\nJoin the global RDA community in March 2026 to take part in shaping the future of data. Registration fees remain unchanged from VP24 (held in April 2025) to allow the participation of as many RDA members as possible. \n\nREGISTER NOW
URL:https://eosc-austria.at/events/rda-26th-plenary-meeting/
LOCATION:Online
CATEGORIES:Online Events
ATTACH;FMTTYPE=image/png:https://eosc-austria.at/wp-content/uploads/2026/01/VP26-Banner.png
END:VEVENT
END:VCALENDAR