BEGIN:VCALENDAR
VERSION:2.0
PRODID:-// - ECPv6.15.20//NONSGML v1.0//EN
CALSCALE:GREGORIAN
METHOD:PUBLISH
X-ORIGINAL-URL:https://eosc-austria.at
X-WR-CALDESC:Events for 
REFRESH-INTERVAL;VALUE=DURATION:PT1H
X-Robots-Tag:noindex
X-PUBLISHED-TTL:PT1H
BEGIN:VTIMEZONE
TZID:Europe/Paris
BEGIN:DAYLIGHT
TZOFFSETFROM:+0100
TZOFFSETTO:+0200
TZNAME:CEST
DTSTART:20250330T010000
END:DAYLIGHT
BEGIN:STANDARD
TZOFFSETFROM:+0200
TZOFFSETTO:+0100
TZNAME:CET
DTSTART:20251026T010000
END:STANDARD
BEGIN:DAYLIGHT
TZOFFSETFROM:+0100
TZOFFSETTO:+0200
TZNAME:CEST
DTSTART:20260329T010000
END:DAYLIGHT
BEGIN:STANDARD
TZOFFSETFROM:+0200
TZOFFSETTO:+0100
TZNAME:CET
DTSTART:20261025T010000
END:STANDARD
BEGIN:DAYLIGHT
TZOFFSETFROM:+0100
TZOFFSETTO:+0200
TZNAME:CEST
DTSTART:20270328T010000
END:DAYLIGHT
BEGIN:STANDARD
TZOFFSETFROM:+0200
TZOFFSETTO:+0100
TZNAME:CET
DTSTART:20271031T010000
END:STANDARD
END:VTIMEZONE
BEGIN:VEVENT
DTSTART;TZID=Europe/Paris:20260505T100000
DTEND;TZID=Europe/Paris:20260505T113000
DTSTAMP:20260423T135459
CREATED:20260217T112207Z
LAST-MODIFIED:20260217T112207Z
UID:21558-1777975200-1777980600@eosc-austria.at
SUMMARY:Webinar: OMERO – A Platform for Image Data Management
DESCRIPTION:The Health Data Research Hub (HDRH) at the Medical University of Graz provides a secure data environment and standardized interfaces that form the foundation for data excellence across the entire research data lifecycle—from study planning and the creation of data management plans to long-term storage and the secure reuse of data in analytical environments. \nThis presentation will focus on OMERO\, an open-source platform developed by the Open Microscopy Environment (OME) for the centralized storage\, management\, visualization\, and analysis of microscopy and bioimaging data\, including associated metadata. Its client–server architecture enables location-independent access via web and desktop clients\, while an access-controlled infrastructure ensures secure data management and distribution. \nBy automatically capturing microscope metadata\, OMERO supports transparent and reproducible research in accordance with the FAIR principles. In addition\, it offers compatibility with numerous bioimaging file formats\, as well as APIs and plugins that enable high interoperability. \nThe presentation will conclude with a short live demonstration of OMERO and selected workflows.
URL:https://eosc-austria.at/events/webinar-omero-a-platform-for-image-data-management/
LOCATION:Online
CATEGORIES:Online Events
ATTACH;FMTTYPE=image/jpeg:https://eosc-austria.at/wp-content/uploads/2026/02/csm_OMERO_318ff9cb57.jpg
END:VEVENT
END:VCALENDAR